{"text_format":"1","workbook":"xlsx","n_sheets":11,"sheets":["Databáze","Tab. B_EU","Tab.C_EU","Tab. H_EU","Tab. B_ČR","Tab. H_ČR","Zdroj-grafy ČR","Nákup_Grafy č.1,2","Výroba_Grafy č.3,4","Bilance_zahr.obchod_Graf č.5","List5"],"not_rendered":{"charts":11,"images":0,"macros":1,"external_links":1,"defined_names":1,"comments":1,"pivot_tables":0},"unopened":[],"bounds":{"document_bytes":16777216,"sheet_cells":100000,"rows_first":2000,"rows_last":500,"rows_between":2000,"halvings":0,"cell_chars":16384,"cell_head_chars":4096},"cells_cut":0,"cells_raw":0,"read":"whole","date_system":"1900"}

{"sheet":"Databáze","index":0,"n_rows":62,"n_cols":136,"rows_kept":62,"cut":false,"hidden":true,"merged":[[57,0,57,1],[58,0,58,1],[1,0,1,1],[52,0,52,1],[53,0,53,1],[54,0,54,1]]}
[]
[]
[]
[]
[1,0,6968607,28013800,24668868,0,0,0,0,0,0,0,0,0,0,116139,433198,116139,433198,0,0,0,0,0,0,0,0,0,0,0,0,0,0,0,0,0,0,0,0,0,0,0,0,0,0,0,0,0,0,0,0,0,0,0,0,0,0,0,0,0,0,0,0,0,0,70000,2940000,0,0,0,0,0,0,0,0,0,0,0,0,0,0,0,0,0,0,0,0,0,0,0,0,0,0,0,0,0,0,1394000,21414500,0,0,0,0,0,0,0,81000,1539000,0,0,0,0,1313000,19875500,0,0,0,0,0,0,0,0,0,0,0,0,0,0,0,0,0,0,0,0,0,0]
[1,0,24905140,97650980,85922733,0,0,0,0,0,0,0,0,0,0,0,0,0,0,0,0,0,0,300111,11988098,300111,11988098,0,0,0,0,0,0,0,0,0,0,0,0,0,0,0,0,0,0,0,0,0,0,0,0,0,0,0,0,0,0,0,0,0,0,0,0,0,0,0,0,0,0,0,0,0,0,0,0,0,0,0,0,0,0,0,0,855594,71869896,0,0,0,0,0,0,0,0,490200,15196200,2787928,20274362,1573692,20599164,0,0,0,0,0,0,0,565750,11315000,0,0,0,0,1007942,9284164,0,0,0,0,0,0,0,0,0,0,0,0,0,0,0,0,0,0,0,0,15639402,14194654]
[2,0,2387000,8904660,8031270,0,0,0,0,0,0,0,0,0,0,0,0,0,0,0,0,0,0,0,0,0,0,0,0,0,0,0,0,0,0,0,0,0,0,0,0,0,0,0,0,0,0,0,0,0,0,0,0,0,0,0,0,0,0,59000,220070,26300,98099,0,0,0,0,0,0,0,0,0,0,0,0,0,0,0,0,0,0,0,0,0,0,0,0,0,0,0,0,0,0,0,0,0,0,133100,496463,0,0,0,0,0,0,0,0,0,0,0,0,0,133100,496463,0,0,0,0,0,0,0,0,0,0,0,0,0,0,0,0,0,0,0,0,0,0]
[3,0,11301000,38423400,36389220,0,0,0,0,0,0,0,0,0,0,0,0,0,0,0,0,0,0,0,0,0,0,0,0,0,0,0,0,0,0,0,0,0,0,0,0,0,0,0,0,0,0,0,0,0,0,0,0,0,0,0,0,0,0,0,0,0,0,0,0,0,0,0,0,0,0,0,0,0,0,0,0,0,0,0,0,0,0,0,0,0,0,0,0,0,0,0,0,0,0,0,0,2027460,36494280,0,0,0,2027460,36494280,0,0,0,0,0,0,0,0,0,0,0,0,0,0,0,0,0,0,0,0,0,0,0,0,0,0,0,0,0,0,0,0]
[4,0,12686930,48083464,41613130,0,0,0,0,0,0,0,0,0,0,377804,1579220,377804,1579220,965032,48252,965032,48252,31318,1216704,31318,1216704,0,0,0,0,433944,1548690,0,0,0,0,474548,721547,0,0,0,0,0,0,0,0,0,0,68226,49718,120770,1931612,460513,15822528,0,0,43459,90287,822049,4806032,237817,771043,350,533,1950,49250,0,0,0,0,0,0,0,0,0,0,37650,20427,0,0,0,0,302413,25404064,0,0,0,0,0,0,0,0,0,0,0,0,2111188,1627781,0,0,0,0,0,0,0,0,0,0,0,0,0,2111188,1627781,18839,0,0,0,0,0,0,0,0,0,25573,16522,24500,1215,24500,1215,0,0,0,0,1145254,901289]
[5,0,0,0,0,0,0,0,0,0,0,0,0,0,0,0,0,0,0,0,0,0,0,0,0,0,0,2024333,2024333,0,0,0,0,0,0,0,0,0,0,0,0,0,0,0,0,0,0,0,0,0,0,0,0,0,0,0,0,0,0,0,0,0,0,0,0,0,0,0,0,0,0,0,0,0,0,0,0,0,0,0,0,0,0,0,0,0,0,0,0,0,0,0,0,0,0,0,0,0,0,0,0,0,2045795,511448,0,0,0,0,0,0,0,0,0,0,0,0,0,0,0,0,0,0,0,0,0,0,0,0,0,0,0,0,0,0,0,0]
[6,0,18567000,69626250,61642440,0,0,0,0,0,0,0,0,0,0,0,0,0,0,0,0,0,0,0,0,0,0,0,0,0,0,0,0,0,0,0,0,0,0,0,0,147998,261876,0,0,0,0,0,0,0,0,2130862,22810729,97767,3242131,0,0,0,0,725903,7203065,229070,2647723,1325130,2139611,2352240,37419266,102434,792821,0,0,0,0,0,0,0,0,0,0,0,0,0,0,0,0,0,0,0,0,0,0,0,0,0,0,0,0,2655544,733175,0,0,0,0,0,0,0,0,0,0,0,0,0,2655544,733175,0,0,0,15034000,0,0,0,0,0,0,0,0,0,0,0,0,0,0,0,0,0,0]
[7,0,11701479,48561137,41189206,0,0,0,0,0,0,0,0,0,0,0,0,0,0,0,0,0,0,0,0,0,0,0,0,0,0,8065,28228,0,0,0,0,0,0,0,0,0,0,0,0,0,0,0,0,0,0,7989,167769,78723,2737986,0,0,0,0,0,0,0,0,0,0,0,0,0,0,0,0,0,0,0,0,0,0,0,0,0,0,0,0,0,0,0,0,0,0,0,0,0,0,0,0,0,0,1435648,45627154,0,0,0,0,0,0,0,1411200,45525695,0,0,0,0,24448,101459,0,0,0,9193870,"                  ",0,0,0,0,0,0,0,0,0,0,0,0,0,0,0,0,0]
[8,0,9149111,33485746,30466539,0,0,0,0,0,0,0,0,0,0,0,0,0,0,0,0,0,0,0,0,0,0,0,0,0,0,0,0,0,0,0,0,0,0,0,0,0,0,0,0,0,0,0,0,0,0,0,0,0,0,0,0,0,0,0,0,0,0,0,0,0,0,0,0,0,0,0,0,0,0,0,0,0,0,0,0,0,0,0,0,0,0,0,0,0,0,0,0,0,0,0,0,1283817,25381183,0,0,0,0,0,0,0,161888,3291101,0,0,0,0,1121929,22090082,155445,0,0,6087000,0,0,0,0,0,0,0,0,0,0,0,0,0,0,0,0,0,0]
[9,0,18567,69626,61642,0,0,0,0,0,0,0,0,0,0,0,0,0,0,0,0,0,0,0,0,0,0,0,0,0,0,0,0,0,0,0,0,0,0,0,0,147998,261876,0,0,0,0,0,0,0,0,2130862,22810729,97767,3242131,0,0,0,0,725903,7203065,229070,2647723,1325130,2139611,2352240,37419266,102434,792821,0,0,0,0,0,0,0,0,0,0,0,0,0,0,0,0,0,0,0,0,0,0,0,0,0,0,0,0,2655544,733175,0,0,0,0,0,0,0,0,0,0,0,0,0,2655544,733175,0,0,0,15034000,0,0,0,0,0,0,0,0,0,0,0,0,0,0,0,0,0,0]
[10,0,196968390,764237353,671662209,0,0,0,0,0,0,0,0,0,0,0,0,0,0,0,0,0,0,0,0,0,0,0,0,0,0,8376742,35616557,0,0,0,0,34355046,53986919,0,0,0,0,13524,7565,0,0,0,0,0,0,6603596.5,121474680,1301819.3999999999,46033365,0,0,0,0,24490673.579999998,163413352,4760604.5199999996,15793549,0,0,6770783.7999999998,18351506,0,0,0,0,0,0,14725,407893,0,0,10079150,5607436,0,0,2977,810,2051445,174253012,0,0,0,0,0,0,0,0,754027.1,55555963,4811592.2,62282252,358364.88,1679012,0,0,0,0,0,0,0,0,0,0,0,0,0,358364.88,1679012,0,0,0,0,0,0,0,0,1040940,65866,0,0,0,0,0,0,0,0,0,0,0,0]
[11,0,63368418,233195778,214185252,0,0,0,0,0,0,0,0,0,0,244358,972544,244358,972544,342990,144055,342990,144055,0,0,0,0,0,0,0,0,0,0,0,0,0,0,16342,25330,0,0,0,0,0,0,0,0,0,0,0,0,35388.85,602894,525714.5,19262454,0,0,0,0,482440.09,131489,170854.07,157216,0,0,1428552.38,141763,0,0,0,0,0,0,60392,1675418,0,0,77500,39243,0,0,0,0,1291350,108163476,0,0,0,0,0,0,0,0,0,0,0,0,15758752.48,59558449,0,0,0,0,0,0,0,0,0,0,0,0,0,15758752.48,59558449,26736.68,0,0,36028178,2109550,0,0,0,0,0,0,0,404597,1569982,404597,1569982,73830.25,3033010,73830.25,3033010.6,37870,58698]
[12,0,10385957,41493757,35831551,0,0,0,0,0,0,0,0,0,0,0,0,0,0,0,0,0,0,0,0,0,0,159356,159356,0,0,24683,90153,0,0,0,0,140026,551071,0,0,0,0,0,0,0,0,0,0,0,0,0,0,14284,571466,0,0,0,0,0,0,0,0,0,0,1415,69200,0,0,0,0,0,0,0,0,0,0,0,0,0,0,0,0,0,0,0,0,0,0,0,0,0,0,3108,119870,0,0,1501582,37750628,0,0,0,917875,22720048,0,0,548591,13625940,0,0,0,0,35116,1404640,0,0,0,4196670,0,0,0,0,0,0,0,0,0,0,0,0,0,0,0,0,0,0]
[13,0,29401569,113196040,99671318,0,0,0,0,0,0,0,0,0,0,340955,1305857,340955,1305857,0,0,0,0,0,0,0,0,18031.16,18031.16,0,0,0,0,0,0,0,0,2776510,4220000,0,0,0,0,0,0,0,0,0,0,0,0,1983330,25457230,0,0,7326730,25574890,18746730,46225820,0,0,0,0,0,0,0,0,0,0,0,0,0,0,0,0,0,0,183700,99700,0,0,0,0,0,0,0,0,0,0,0,0,0,0,0,0,0,0,0,0,0,0,0,0,0,0,0,0,0,0,0,0,0,0,0,0,0,0,0,0,0,0,0,0,0,0,0,0,0,0,0,0,0,0,0,0,0]
[14,0,60160060,227405026,206950640,0,0,0,0,0,0,0,0,0,0,0,0,0,0,0,0,0,0,554634,22201999,554634,22201999,0,0,0,0,2404471,8627924,0,0,1041860,3808047,3784389,5857176,0,0,8980514,13840511,0,0,0,0,85668,9876,0,0,1366132,22621643,1323398,43543309,0,0,0,0,6566,35413,1156949,8210128,1161092,1142746,0,0,23265,208126,673182,5512847,6025,270564,3593480,95382507,148200,2003926,526428,279260,0,0,511614,15401023,257795,21740675,0,0,0,0,0,0,0,0,0,0,157244,2116121,0,0,0,0,0,0,0,0,0,0,0,0,0,0,0,0,0,0,0,0,0,0,0,0,0,0,0,0,0,0,0,0,0,0,0,0,0,0,0]
[15,0,100090709,401189023,347238405,0,0,0,0,0,0,0,0,0,0,0,0,0,0,0,0,0,0,2083062,81417292,0,0,0,0,0,0,260884,1020693,0,0,2355307,8528926,2383779,3752435,0,0,50774629,79223090,0,0,0,0,538708,200556,259000,288566,9343574,123969388,8715865,275771161,0,0,0,0,3928855,22554554,6958163,25575520,1544579,4438042,12770962,44539030,0,0,0,0,0,0,0,0,0,0,0,0,0,0,0,0,0,0,0,0,0,0,0,0,0,0,0,0,0,0,0,0,0,0,0,0,0,0,0,0,0,0,0,0,0,0,0,0,0,0,6649506,0,0,0,0,0,0,0,0,5367026,7615958,5367026,7615958,0,0,0,0,0,0]
[16,0,0,0,0,0,0,0,0,0,0,0,0,0,0,0,0,0,0,13208964,1320896,13208964,1320896,0,0,0,0,0,0,0,0,0,0,0,0,0,0,0,0,0,0,0,0,0,0,0,0,0,0,0,0,0,0,0,0,0,0,0,0,0,0,0,0,0,0,0,0,0,0,0,0,0,0,0,0,0,0,3122625,46839,148625,5945,51950,780,0,0,0,0,0,0,0,0,0,0,0,0,0,0,0,0,0,0,0,0,0,0,0,0,0,0,0,0,0,0,0,0,0,0,0,0,12847400,0,0,0,0,0,0,0,0,0,0,0,0,0,0,0,0]
[17,0,0,0,0,0,0,0,0,0,0,0,0,0,0,0,0,0,0,0,0,0,0,0,0,0,0,0,0,0,0,0,0,0,0,0,0,0,0,0,0,0,0,0,0,0,0,0,0,0,0,0,0,0,0,0,0,0,0,0,0,0,0,0,0,0,0,0,0,0,0,0,0,0,0,0,0,0,0,0,0,0,0,0,0,0,0,0,0,0,0,0,0,0,0,0,0,0,0,0,0,0,0,0,0,0,0,0,0,0,0,0,0,0,2075852.87,0,0,0,0,0,0,0,0,0,0,0,0,0,0,0,0,0,0,0,0,0]
[18,0,0,0,0,0,0,0,0,0,0,0,0,0,0,0,0,0,0,0,0,0,0,0,0,0,0,101278500,101278500,0,0,0,0,0,0,0,0,0,0,0,0,0,0,0,0,0,0,0,0,0,0,0,0,0,0,0,0,0,0,0,0,0,0,0,0,0,0,0,0,0,0,0,0,0,0,0,0,0,0,0,0,0,0,0,0,0,0,0,0,0,0,0,0,0,0,0,0,0,0,0,0,0,0,0,0,0,0,0,0,0,0,0,0,0,0,0,0,0,0,16096090,0,0,0,0,0,0,0,0,0,0,0,0,0,0,0,0]
[19,0,47756679,188638882,164282976,0,0,0,0,0,0,0,0,0,0,0,0,0,0,0,0,0,0,0,0,0,0,0,0,0,0,0,0,0,0,0,0,0,0,0,0,0,0,0,0,0,0,0,0,0,0,0,0,0,0,0,0,0,0,33805706,81673895,6799545,21723693,0,0,0,0,0,0,0,0,0,0,0,0,0,0,0,0,0,0,0,0,0,0,0,0,0,0,0,0,0,0,0,0,0,0,0,0,0,0,0,0,0,0,0,0,0,0,0,0,0,0,0,0,0,0,0,0,0,0,0,0,0,0,0,0,0,0,0,0,0,0,0,0,0]
[20,0,23769,90797,82240,0,0,0,0,0,0,0,0,0,0,499,1986,499,1986,0,0,0,0,0,0,0,0,0,0,0,0,0,0,0,0,0,0,0,0,0,0,0,0,0,0,0,0,0,0,0,0,0,0,0,0,0,0,0,0,9204800,23510000,18091340,67290000,0,0,0,0,0,0,0,0,0,0,0,0,0,0,0,0,0,0,0,0,0,0,0,0,0,0,0,0,0,0,0,0,0,0,0,0,0,0,0,0,0,0,0,0,0,0,0,0,0,0,0,0,0,0,0,0,0,0,0,0,0,0,0,0,0,0,0,0,0,0,0,0,0]
[21,0,143318227,558941085.29999995,495881065.39999998,0,0,0,0,0,0,0,0,0,0,0,0,0,0,0,0,0,0,0,0,0,0,0,0,0,0,0,0,0,0,0,0,0,0,0,0,0,0,0,0,0,0,0,0,0,0,0,0,0,0,6793,18341,17767,47971,19332,67662,11990,41965,126865,50746,0,0,0,0,0,0,0,0,0,0,0,0,0,0,0,0,0,0,1989495,169107075,0,0,0,0,0,0,0,0,0,0,0,0,13101893,373027158,0,0,0,0,0,0,0,4056005,112000749,0,0,8979014,259693465,66874,1332944,0,0,0,17273718,41258043,0,0,0,0,0,0,0,4057665,16127820,4057665,16127820,0,0,0,0,0,0]
[22,0,204162991,779421363,703574941,0,0,0,0,0,0,0,0,0,0,0,0,0,0,0,0,0,0,622295,25026947,622295,25026947,0,0,0,0,0,0,0,0,15793064,56580171,0,0,0,0,84624253,132139893,0,0,0,0,2514998,171254,0,0,1438914,19448748,1229536,39779447,0,0,0,0,0,0,0,0,1556976,2491316,33222,337365,2357100,16245585,6188670,49669056,0,0,6534325,170857472,0,0,1902175,942411,0,0,0,0,4028199,336732964,0,0,0,0,0,0,0,0,0,0,0,0,384605,761677,0,0,0,0,0,0,0,0,0,0,0,0,0,384605,761677,0,0,0,1372808,0,0,0,0,0,0,0,0,0,0,0,0,149207,6036111,149207,6036111,0,0]
[23,0,94447665,374957230,327733397,0,0,0,0,0,0,0,0,0,0,0,0,0,0,0,0,0,0,0,0,0,0,404383.6,404383.6,0,0,0,0,0,0,0,0,0,0,0,0,0,0,0,0,0,0,0,0,0,0,0,0,0,0,0,0,0,0,0,0,0,0,0,0,0,0,742441,121715,0,0,0,0,0,0,0,0,0,0,0,0,0,0,0,0,0,0,0,0,0,0,0,0,0,0,0,0,12448367.1,335876922,0,0,0,0,0,0,0,3002849.7,65469483,3349047.5,105984801,0,0,6096469.9000000004,164422638,1155907.8999999999,0,0,0,4887290,0,0,0,1066464,0,0,0,188411,798102,188411,798102,458487,20155386,458487,20155386,0,0]
[24,0,20452893,79877029,70669479,0,0,0,0,0,0,0,0,0,0,0,0,0,0,0,0,0,0,0,0,0,0,0,0,0,0,0,0,0,0,0,0,0,0,0,0,0,0,0,0,0,0,0,0,0,0,0,0,0,0,0,0,0,0,1969131,20527134,3146527,36626500,0,0,0,0,0,0,0,0,0,0,0,0,0,0,0,0,0,0,0,0,0,0,0,0,0,0,0,0,0,0,4270186,137663060,0,0,973427,1795000,0,0,0,0,0,0,0,0,0,0,0,0,0,973427,1795000,0,0,0,7435000,0,0,0,0,0,0,0,0,0,0,0,0,0,0,0,0,0,0]
[25,0,21958217,86395749,75975430,0,0,0,0,0,0,0,0,0,0,99611,348637,99611,348637,1115345,55767,1115345,55767,88092,3589202,88092,3589202,0,0,0,0,0,0,0,0,0,0,0,0,0,0,0,0,0,0,0,0,0,0,0,0,0,0,105,4200,0,0,0,0,0,0,0,0,0,0,0,0,0,0,0,0,0,0,0,0,0,0,0,0,0,0,0,0,0,0,0,0,0,0,0,0,0,0,817060,27572650,0,0,6249464,69451375,0,0,0,0,0,0,0,1781441,39616910,0,0,0,0,4468023,29834465,0,0,0,24171184,0,0,0,0,0,0,0,0,0,0,0,0,0,0,0,0,0,0]
[26,0,50601854,193805100,176094451,0,0,0,0,0,0,0,0,0,0,0,0,0,0,0,0,0,0,0,0,0,0,0,0,0,0,0,0,0,0,0,0,0,0,0,0,0,0,0,0,0,0,0,0,0,0,0,0,0,0,0,0,0,0,0,0,0,0,0,0,0,0,0,0,0,0,0,0,0,0,0,0,0,0,0,0,0,0,0,0,0,0,0,0,0,0,0,0,0,0,0,0,8666670,200074503,0,0,0,3525400,113353074,0,0,0,0,0,0,0,0,5141270,86721429,0,0,0,17055000,0,0,0,0,0,0,0,0,0,0,0,0,0,0,0,0,0,0]
[27,0,100299477,388579712,343605917,0,0,0,0,0,0,0,0,0,0,0,0,0,0,0,0,0,0,0,0,0,0,0,0,0,0,420959,1473357,0,0,0,0,16323274,24484911,0,0,0,0,0,0,0,0,0,0,2962628,3088124,1195538,12553149,4338439,136660828.5,348970,348970,null,null,0,0,0,0,0,0,0,0,0,0,0,0,0,0,0,0,0,0,1902575,1017877,0,0,0,0,508298,41426287,0,0,0,0,0,0,0,0,0,0,0,0,5201552,83352571,0,0,0,0,0,0,0,0,0,4450290,77727942,140601,4333100,610661,1291529,146193,0,0,0,0,2828295,0,0,0,0,0,0,4219901,14147836,4219901,14147836,761129,28922902,761129,28922902,162900,570276]
[28,0,3769.6,15100,13600,0,0,0,0,0,0,0,0,0,0,0,0,0,0,0,0,0,0,0,0,0,0,0,0,0,0,0,0,0,0,0,0,0,0,0,0,0,0,0,0,0,0,0,0,0,0,0,0,0,0,0,0,0,0,2171,7890,1942,7110,0,0,0,0,0,0,0,0,0,0,0,0,0,0,0,0,0,0,0,0,0,0,0,0,0,0,0,0,0,0,0,0,0,0,0,0,0,0,0,0,0,0,0,0,0,0,0,0,0,0,0,220020,0,0,0,0,0,0,0,0,0,0,0,0,0,0,0,0,0,0,0,0,0]
[29,0,10992210,42611931,36274293,0,0,0,0,0,0,0,0,0,0,0,0,0,0,0,0,0,0,0,0,0,0,0,0,0,0,0,0,0,0,0,0,0,0,0,0,0,0,0,0,0,0,0,0,0,0,0,0,0,0,0,0,0,0,0,0,0,0,0,0,0,0,0,0,0,0,0,0,175,4736,0,0,90932,48421,0,0,0,0,48757,4083886,0,0,0,0,0,0,0,0,0,0,0,0,1144601,42350240,0,0,0,0,0,0,0,1144601,42350240,0,0,0,0,0,0,0,0,0,8723929,0,0,0,0,0,0,0,0,0,0,0,0,0,0,0,0,0,0]
[30,0,0,0,0,0,0,0,0,0,0,0,0,0,0,0,0,0,0,0,0,0,0,0,0,0,0,0,0,0,0,0,0,0,0,0,0,0,0,0,0,0,0,0,0,0,0,0,0,0,0,0,0,0,0,0,0,0,0,0,0,0,0,0,0,0,0,0,0,0,0,0,0,0,0,0,0,0,0,0,0,0,0,52024,4475517,0,0,0,0,0,0,0,0,0,0,0,0,622549,14008146,0,0,0,0,0,0,0,622549,14008146,0,0,0,0,0,0,0,0,0,4647210,0,0,0,0,0,0,51489,22139,0,0,0,0,0,0,0,0,0,0]
[31,0,306700,1371000,1110000,0,0,25905,90700,0,0,0,0,0,0,0,0,0,0,0,0,0,0,0,0,0,0,0,0,0,0,13000,53000,0,0,0,0,0,0,0,0,0,0,0,0,0,0,0,0,0,0,0,0,0,0,0,0,0,0,0,0,0,0,0,0,0,0,0,0,0,0,0,0,0,0,0,0,0,0,0,0,0,0,0,0,0,0,0,0,0,0,0,0,0,0,0,0,39900,159600,0,2878,0,0,0,0,0,0,0,0,0,0,0,42778,169700,0,0,0,0,0,0,0,0,0,0,0,0,0,0,0,0,0,0,0,0,0,0]
[32,0,0,0,0,0,0,0,0,null,null,0,0,0,0,0,0,0,0,0,0,0,0,0,0,0,0,1115319,1115319,0,0,0,0,0,0,0,0,0,0,0,0,0,0,0,0,0,0,0,0,0,0,0,0,0,0,0,0,0,0,0,0,0,0,0,0,0,0,0,0,0,0,0,0,0,0,0,0,0,0,0,0,0,0,0,0,0,0,0,0,0,0,0,0,0,0,0,0,0,0,0,0,0,0,0,0,0,0,0,0,0,0,0,0,0,3253.5,0,0,0,0,0,0,0,0,0,0,0,0,0,0,0,0,0,0,0,0,0]
[33,0,69577975,271354102,242827132,0,0,0,0,0,0,0,0,0,0,0,0,0,0,0,0,0,0,0,0,0,0,0,0,0,0,0,0,0,0,0,0,0,0,0,0,0,0,0,0,0,0,0,0,0,0,0,0,0,0,0,0,0,0,0,0,0,0,0,0,0,0,0,0,0,0,0,0,0,0,0,0,0,0,0,0,0,0,0,0,0,0,0,0,0,0,0,0,0,0,0,0,0,0,0,0,0,0,0,0,0,6388582,102325144,0,0,0,0,0,0,0,0,0,0,0,0,0,0,0,0,0,0,0,0,0,0,0,0,0,0,0,0]
[34,0,57674961,227816096,201285614,0,0,0,0,0,0,0,0,0,0,0,0,0,0,0,0,0,0,0,0,0,0,0,0,0,0,0,0,0,0,0,0,0,0,0,0,0,0,0,0,0,0,0,0,0,0,0,0,0,0,0,0,0,0,0,0,0,0,0,0,0,0,0,0,0,0,0,0,0,0,0,0,0,0,0,0,0,0,60675.45,5379675,0,0,0,0,0,0,0,0,0,0,0,0,7700764.2699999996,199053911,0,0,0,3759660.93,109794373,0,0,0,0,0,0,0,0,3941103.34,89259538,0,0,0,15089100,6126400,0,0,0,0,0,0,0,0,0,0,0,0,0,0,0,0,0]
[35,0,14307913,54799306,46786875,0,0,0,0,0,0,0,0,0,0,0,0,0,0,0,0,0,0,0,0,0,0,0,0,0,0,7714169,27909863,0,0,0,0,15019409.5,24905936,0,0,0,0,0,0,0,0,0,0,4329108,5220904,1535546,18981652,3403749,114253643,1081146,1194666,1531526,2386524,0,0,0,0,0,0,0,0,0,0,0,0,0,0,0,0,0,0,0,0,0,0,0,0,3088796.01,258532226,0,0,0,0,0,0,0,0,0,0,0,0,1430865.5,5065264,0,0,0,0,0,0,0,0,0,0,0,0,0,1430865.5,5065264,0,0,0,7009000,0,0,0,0,0,0,0,0,0,0,0,0,0,0,0,0,15394019,23787614]
[36,0,408225784,1571926287,1376082651,0,0,0,0,0,0,0,0,0,0,0,0,0,0,0,0,0,0,0,0,0,0,0,0,0,0,0,0,0,0,58474613,206534926,0,0,0,0,170658604.5,268195184,0,0,0,0,7343850,3171854,0,0,131511,1445222,126781,4016389,0,0,0,0,0,0,0,0,0,0,0,0,0,0,0,0,0,0,0,0,0,0,0,0,0,0,0,0,0,0,0,0,0,0,0,0,0,0,0,0,0,0,0,0,0,0,0,0,0,0,0,0,0,0,0,0,0,0,0,0,0,0,0,0,0,0,0,0,0,0,0,124351994,469566002,124351994,469566002,5747113,228228099,5747113,228228099]
[37,0,36401664,145679459,126495782,0,0,0,0,0,0,0,0,0,0,0,0,0,0,0,0,0,0,88114,3577830,88114,3577830,0,0,0,0,0,0,0,0,0,0,189180,283770,0,0,47608,71412,0,0,0,0,0,0,0,0,0,0,0,0,0,0,0,0,0,0,0,0,0,0,0,0,0,0,0,0,0,0,309078,8036028,0,0,177973,177973,0,0,0,0,765646.5,62739033,0,0,0,0,0,0,0,0,1690,131820,0,0,3759732.85,48573226.520000003,0,0,0,0,0,307967.38,5610482.4000000004,1977677.48,39485804.490000002,0,0,0,0,1474087.99,3476939.63,0,0,0,8412500,10100,0,0,0,0,0,0,0,1933358,7073638.9000000004,1933358,7073638.9000000004,0,0,0,0,1971828,2957742]
[38,0,47483678,1851863.442,1590703.213,0,0,0,0,0,0,0,0,0,0,0,0,0,0,0,0,0,0,0,0,0,0,0,0,0,0,46460,169183,0,0,0,0,0,0,0,0,0,0,0,0,0,0,0,0,0,0,0,0,0,0,0,0,0,0,0,0,0,0,0,0,0,0,0,0,0,0,0,0,0,0,0,0,0,0,0,0,0,0,871393,75407536,0,0,0,0,0,0,0,0,0,0,0,0,4393618,90964941,0,0,0,0,0,0,0,4341789,90944565,0,0,0,0,51829,20376,0,0,0,7488000,2441801,0,0,0,0,0,0,0,0,0,0,0,0,0,0,0,0,0]
[39,0,0,0,0,0,0,0,0,0,0,0,0,0,0,0,0,0,0,1309612,676,1309612,676,0,0,0,0,0,0,0,0,0,0,0,0,0,0,0,0,0,0,0,0,0,0,0,0,0,0,0,0,0,0,0,0,0,0,0,0,0,0,0,0,0,0,0,0,0,0,0,0,0,0,0,0,0,0,5160895,28761,0,0,0,0,0,0,0,0,0,0,0,0,0,0,0,0,0,0,0,0,0,0,0,0,0,0,0,0,0,0,0,0,0,0,0,0,0,0,0,0,1475745,0,0,0,0,0,0,0,0,0,0,0,0,0,0,0,0]
[40,0,0,0,0,0,0,0,0,0,0,0,0,0,0,0,0,0,0,0,0,0,0,0,0,0,0,0,0,0,0,0,0,0,0,0,0,0,0,0,0,0,0,0,0,0,0,0,0,0,0,0,0,0,0,0,0,0,0,0,0,0,0,0,0,4389000,13167000,0,0,0,0,0,0,0,0,0,0,0,0,0,0,0,0,0,0,0,0,0,0,0,0,0,0,0,0,0,0,0,0,0,0,0,0,0,0,0,0,0,0,0,0,0,0,0,0,0,0,0,0,0,0,0,0,0,0,0,0,0,0,0,0,0,0,0,0,0]
[41,0,0,0,0,0,0,0,0,0,0,0,0,0,0,0,0,0,0,0,0,0,0,0,0,0,0,0,0,0,0,0,0,0,0,0,0,0,0,0,0,0,0,0,0,0,0,0,0,0,0,0,0,0,0,0,0,0,0,0,0,0,0,0,0,0,0,0,0,0,0,0,0,0,0,0,0,0,0,0,0,0,0,0,0,0,0,0,0,0,0,0,0,0,0,0,0,0,0,0,0,0,0,0,0,0,0,0,0,0,0,0,0,0,0,0,0,0,0,0,0,0,23600,0,0,0,0,0,0,0,0,0,0,0,0,0]
[42,0,46710,197790,161998,0,0,0,0,0,0,0,0,0,0,0,0,0,0,0,0,0,0,0,0,0,0,0,0,0,0,0,0,0,0,0,0,0,0,0,0,0,0,0,0,0,0,0,0,0,0,0,0,0,0,0,0,0,0,0,0,0,0,0,0,0,0,0,0,0,0,0,0,0,0,0,0,0,0,0,0,0,0,0,0,0,0,0,0,0,0,0,0,0,0,0,0,0,0,0,0,0,0,0,0,0,0,0,0,0,0,0,0,0,0,0,0,0,0,0,0,0,0,0,0,0,0,0,0,0,0,0,0,0,46710,197790]
[43,0,0,0,0,0,0,0,0,0,0,0,0,0,0,0,0,0,0,0,0,0,0,0,0,0,0,0,0,0,0,0,0,0,0,0,0,0,0,0,0,0,0,0,0,0,0,0,0,0,0,0,0,0,0,0,0,0,0,1872409,5286364,247465,869438,0,0,0,0,0,0,0,0,0,0,0,0,0,0,0,0,0,0,0,0,0,0,0,0,0,0,0,0,0,0,0,0,0,0,0,0,0,0,0,0,0,0,0,0,0,0,0,0,0,0,0,0,0,0,0,0,0,0,0,0,0,0,0,0,0,0,0,0,0,0,0,0,0]
[44,0,361000344,1425820801,1227401170,0,0,0,0,0,0,0,0,0,0,0,0,0,0,0,0,0,0,75290,3005670,75290,3005670,0,0,0,0,1035573,3797923,0,0,12397872,45470603,6265870,9736970,0,0,86187734,134221412,0,0,0,0,1553412,704434,754535,371515,2162024,35566000,1066235,36002349,513121,798936,60782,103866,196155,630782,205606,794483,860219,1425857,4134444,39637524,0,0,0,0,0,0,1869507,52099675,0,0,2112790,731728,0,0,0,0,7676416,643902187,0,0,0,0,227240,15020371,0,0,1150061,48504854,165715,9878172,22212123,433904967,0,0,0,1507460,28594545,0,0,14511911,363477848,573915,18665052,0,0,5618837,23167522,2593209,0,0,9697450,17639792,0,0,0,0,0,0,0,0,0,0,0,0,0,0,0,19812062,80413023]
[45,0,39160145,151059750,133990398,0,0,0,0,0,0,0,0,0,0,0,0,0,0,0,0,0,0,0,0,0,0,0,0,0,0,0,0,0,0,0,0,0,0,0,0,0,0,0,0,0,0,0,0,0,0,0,0,0,0,0,0,0,0,0,0,0,0,0,0,0,0,0,0,0,0,0,0,0,0,0,0,0,0,0,0,0,0,0,0,0,0,0,0,0,0,0,0,0,0,0,0,0,0,0,0,0,0,0,0,0,0,0,0,0,0,0,0,0,0,0,0,0,0,0,0,0,0,0,0,0,39160145,151059750,39160145,151059750,0,0,0,0,0,0]
[46,0,21627191,86766927,75478897,0,0,0,0,0,0,0,0,0,0,0,0,0,0,0,0,0,0,0,0,0,0,0,0,0,0,0,0,0,0,0,0,0,0,0,0,0,0,0,0,0,0,0,0,0,0,1852923.1529999999,29427288,0,0,0,0,0,0,6503512,27373578,2880315,22400809,0,0,12209,175723,0,0,0,0,0,0,0,0,0,0,4600,2496,0,0,0,0,0,0,0,0,0,0,0,0,0,0,0,0,0,0,0,0,0,0,0,0,0,0,0,0,0,0,0,0,0,0,0,0,0,0,0,0,0,0,0,0,0,0,0,0,0,0,0,0,0,0,0,4841464,7315519]
[47,0,0,0,0,0,0,0,0,0,0,0,0,0,0,0,0,0,0,0,0,0,0,0,0,0,0,0,0,0,0,0,0,0,0,0,0,0,0,0,0,0,0,0,0,0,0,0,0,0,0,0,0,0,0,0,0,0,0,0,0,0,0,0,0,0,0,0,0,0,0,0,0,0,0,0,0,0,0,0,0,0,0,0,0,0,0,0,0,0,0,0,0,0,0,0,0,0,0,0,0,0,0,0,0,0,0,0,0,0,0,0,0,0,6256673,0,0,0,0,0,0,0,0,0,0,0,0,0,0,0,0,0,0,0,0,0]
[null,null,{"$f":"SUM(C3:C52)","v":2307890753.5999999},8785513399.7420006,7732923432.6129999,0,0,25905,90700,0,0,0,0,0,0,1179366,4641442,1179366,4641442,16941943,1569646,16941943,1569646,3842916,152023742,1759854,70606450,104999922.75999999,104999922.75999999,0,0,20738950,80335571,0,{"$f":"SUM(AI3:AI52)","v":0},90062716,320922673,81728373.5,128526065,0,0,401569338.5,628215254,13524,7565,0,0,12036636,4257974,8373497,9018827,32038960.503000002,459268733,22780695.899999999,740943387.5,9276760,27935803,20400264,48854468,84814605.670000002,364644345,45153557.590000004,205654999,7900341,13828462,34317018.18,{"$f":"SUM(BO3:BO52)","v":194246893},3327674,18161068,6861852,55181903,6025,270564,12381682,328463729,148200,2003926,25378993,9042572,148625,5945,566541,15402613,23848296.960000001,2003217509,0,0,0,0,227240,15020371,0,0,7486332.0999999996,284744417,7922479.2000000002,94550907,121218824.08,{"$f":"SUM(CU3:CU52)","v":2150514465.52},0,2878,0,13783650.93,311467768,307967.38,5610482.4000000004,40595834.18,944975625.49000001,8373252.5,202377795,9119615,264026565,57475759.089999996,524902921.63,12652129.949999999,0,0,220598123,74472976,33247530,0,0,2131004,65866,77062,38661,179707597,667960303.89999998,179707597,667960303.89999998,{"$f":"SUM(EA3:EA52)","v":7189766.25},286375508,7189766.25,286375508.60000002,59051509,130396605]
[null,null,{"$f":"MIN(C3:C52)","v":0},0,0,0,0,0,0,0,0,0,0,0,0,0,0,0,0,0,0,0,0,0,0,0,0,0,0,0,0,0,0,0,{"$f":"MIN(AI3:AI52)","v":0},0,0,0,0,0,0,0,0,0,0,0,0,0,0,0,0,0,0,0,0,0,0,0,0,0,0,0,0,0,0,0,{"$f":"MIN(BO3:BO52)","v":0},0,0,0,0,0,0,0,0,0,0,0,0,0,0,0,0,0,0,0,0,0,0,0,0,0,0,0,0,0,0,0,{"$f":"MIN(CU3:CU52)","v":0},0,0,0,0,0,0,0,0,0,0,0,0,0,0,0,0,0,0,0,0,0,0,0,0,0,0,0,0,0,0,0,{"$f":"MIN(EA3:EA52)","v":0},0,0,0,0,0]
[null,null,{"$f":"MAX(C3:C52)","v":408225784},1571926287,1376082651,0,0,25905,90700,0,0,0,0,0,0,377804,1579220,377804,1579220,13208964,1320896,13208964,1320896,2083062,81417292,622295,25026947,101278500,101278500,0,0,8376742,35616557,0,{"$f":"MAX(AI3:AI52)","v":0},58474613,206534926,34355046,53986919,0,0,170658604.5,268195184,13524,7565,0,0,7343850,3171854,4329108,5220904,9343574,123969388,8715865,275771161,7326730,25574890,18746730,46225820,33805706,163413352,18091340,67290000,1556976,4438042,12770962,{"$f":"MAX(BO3:BO52)","v":44539030},2357100,16245585,6188670,49669056,6025,270564,6534325,170857472,148200,2003926,10079150,5607436,148625,5945,511614,15401023,7676416,643902187,0,0,0,0,227240,15020371,0,0,4270186,137663060,4811592.2,62282252,22212123,{"$f":"MAX(CU3:CU52)","v":433904967},0,2878,0,3759660.93,113353074,307967.38,5610482.4000000004,14511911,363477848,4450290,105984801,8979014,259693465,15758752.48,164422638,6256673,0,0,36028178,41258043,16096090,0,0,1066464,65866,51489,22139,124351994,469566002,124351994,469566002,{"$f":"MAX(EA3:EA52)","v":5747113},228228099,5747113,228228099,19812062,80413023]
[null,null,{"$f":"AVERAGE(C3:C52)","v":48081057.366666667},183031529.16129169,161102571.51277083,0,0,539.6875,1889.5833333333333,0,0,0,0,0,0,24570.125,96696.708333333328,24570.125,96696.708333333328,352957.14583333331,32700.958333333332,352957.14583333331,32700.958333333332,80060.75,3167161.2916666665,36663.625,1470967.7083333333,2187498.3908333331,2187498.3908333331,0,0,432061.45833333331,1673657.7291666667,0,{"$f":"AVERAGE(AI3:AI52)","v":0},1876306.5833333333,6685889.020833333,1702674.4479166667,2677626.3541666665,0,0,8366027.885416667,13087817.791666666,281.75,157.60416666666666,0,0,250763.25,88707.791666666672,174447.85416666666,187892.22916666666,667478.34381250001,9568098.604166666,474597.83124999999,15436320.572916666,193265.83333333334,581995.89583333337,434048.17021276598,1039456.7659574468,1766970.9514583333,7596757.1875,940699.11645833345,4284479.145833333,164590.4375,288092.95833333331,714937.87875000003,{"$f":"AVERAGE(BO3:BO52)","v":4046810.2708333335},69326.541666666672,378355.58333333331,142955.25,1149622.9791666667,125.52083333333333,5636.75,257951.70833333334,6842994.354166667,3087.5,41748.458333333336,528729.02083333337,188386.91666666666,3096.3541666666665,123.85416666666667,11802.9375,320887.77083333331,496839.52,41733698.104166664,0,0,0,0,4734.166666666667,312924.39583333331,0,0,155965.25208333333,5932175.354166667,165051.65,1969810.5625,2525392.1683333335,{"$f":"AVERAGE(CU3:CU52)","v":44802384.69833333},0,59.958333333333336,0,287159.39437499997,6488911.833333333,6415.9870833333334,116885.05,845746.54541666666,19686992.197708335,174442.76041666666,4216204.0625,189991.97916666666,5500553.4375,1197411.6477083333,10935477.533958333,263586.04062499997,0,0,4595794.229166667,1584531.4042553192,692656.875,0,0,44395.916666666664,1372.2083333333333,1605.4583333333333,805.4375,3743908.2708333335,13915839.664583333,3743908.2708333335,13915839.664583333,{"$f":"AVERAGE(EA3:EA52)","v":149786.796875},5966156.416666667,149786.796875,5966156.4291666672,1256415.0851063831,2774395.8510638298]
[null,null,{"$f":"MEDIAN(C3:C52)","v":13497421.5},48322300.5,41401168,0,0,0,0,0,0,0,0,0,0,0,0,0,0,0,0,0,0,0,0,0,0,0,0,0,0,0,0,0,{"$f":"MEDIAN(AI3:AI52)","v":0},0,0,0,0,0,0,0,0,0,0,0,0,0,0,0,0,0,0,0,0,0,0,0,0,0,0,0,0,0,0,0,{"$f":"MEDIAN(BO3:BO52)","v":0},0,0,0,0,0,0,0,0,0,0,0,0,0,0,0,0,0,0,0,0,0,0,0,0,0,0,0,0,0,0,371484.94,{"$f":"MEDIAN(CU3:CU52)","v":733175},0,0,0,0,0,0,0,0,0,0,0,0,0,12224,10188,0,0,0,0,0,0,0,0,0,0,0,0,0,0,0,0,{"$f":"MEDIAN(EA3:EA52)","v":0},0,0,0,0,0]
[null,null,{"$f":"COUNTIF(C3:C52,\">0\")","v":37},37,37,0,0,1,1,0,0,0,0,0,0,6,6,6,6,5,5,5,5,8,8,7,7,6,6,0,0,11,11,0,{"$f":"COUNTIF(AI3:AI52,\">0\")","v":0},5,5,11,11,0,0,8,8,1,1,0,0,5,5,5,5,15,15,15,15,5,5,5,5,16,16,16,16,8,8,12,{"$f":"COUNTIF(BO3:BO52,\">0\")","v":12},5,5,2,2,1,1,7,7,1,1,13,13,1,1,3,3,15,15,0,0,0,0,1,1,0,0,7,7,4,4,27,{"$f":"COUNTIF(CU3:CU52,\">0\")","v":27},0,1,0,6,6,1,1,14,14,3,3,2,2,24,24,10,0,0,19,7,4,0,0,3,1,2,2,9,9,9,9,{"$f":"COUNTIF(EA3:EA52,\">0\")","v":5},5,5,5,9,9]
[null,null,{"$f":"IF(AND(C55/C53<0.7,C58>=3),C53,\"C\")","v":2307890753.5999999},{"$f":"IF(AND(D55/D53<0.7,D58>=3),D53,\"C\")","v":8785513399.7420006},7732923432.6129999,{"$error":"#DIV/0!"},{"$error":"#DIV/0!"},"C","C",{"$error":"#DIV/0!"},{"$error":"#DIV/0!"},{"$error":"#DIV/0!"},{"$f":"IF(AND(M55/M53<0.7,M58>=3),M53,\"C\")","v":{"$error":"#DIV/0!"}},{"$error":"#DIV/0!"},{"$error":"#DIV/0!"},1179366,4641442,1179366,4641442,"C","C","C","C",3842916,152023742,1759854,70606450,"C","C",{"$error":"#DIV/0!"},{"$error":"#DIV/0!"},20738950,80335571,{"$error":"#DIV/0!"},{"$error":"#DIV/0!"},90062716,320922673,81728373.5,128526065,{"$error":"#DIV/0!"},{"$error":"#DIV/0!"},401569338.5,628215254,"C",{"$f":"IF(AND(AS55/AS53<0.7,AS58>=3),AS53,\"C\")","v":"C"},{"$error":"#DIV/0!"},{"$error":"#DIV/0!"},12036636,"C",8373497,9018827,32038960.503000002,459268733,22780695.899999999,740943387.5,"C","C","C","C",84814605.670000002,364644345,45153557.590000004,205654999,7900341,13828462,34317018.18,194246893,"C","C","C","C","C","C",12381682,328463729,"C",{"$f":"IF(AND(BY55/BY53<0.7,BY58>=3),BY53,\"C\")","v":"C"},25378993,9042572,"C","C","C","C",23848296.960000001,2003217509,{"$error":"#DIV/0!"},{"$error":"#DIV/0!"},{"$error":"#DIV/0!"},{"$error":"#DIV/0!"},"C","C",{"$error":"#DIV/0!"},{"$error":"#DIV/0!"},7486332.0999999996,284744417,7922479.2000000002,94550907,121218824.08,2150514465.52,{"$error":"#DIV/0!"},"C",{"$error":"#DIV/0!"},13783650.93,311467768,"C","C",40595834.18,944975625.49000001,{"$f":"IF(AND(DE55/DE53<0.7,DE58>=3),DE53,\"C\")","v":8373252.5},202377795,"C","C",57475759.089999996,524902921.63,12652129.949999999,{"$error":"#DIV/0!"},{"$error":"#DIV/0!"},220598123,74472976,33247530,{"$error":"#DIV/0!"},{"$error":"#DIV/0!"},2131004,"C","C","C",179707597,"C",179707597,"C","C","C",{"$f":"IF(AND(EC55/EC53<0.7,EC58>=3),EC53,\"C\")","v":"C"},{"$f":"IF(AND(ED55/ED53<0.7,ED58>=3),ED53,\"C\")","v":"C"},{"$f":"IF(AND(EE55/EE53<0.7,EE58>=3),EE53,\"C\")","v":59051509},{"$f":"IF(AND(EF55/EF53<0.7,EF58>=3),EF53,\"C\")","v":130396605}]
[]
[]
[null,null,{"$f":"C53*1.027/1000","v":2370203.8039471996},{"$f":"D53/100000","v":87855.133997420009},{"$f":"E53/100000","v":77329.234326129997},{"$f":"F53*1.035/1000","v":0},{"$f":"G53/100000","v":0},{"$f":"H53*1.035/1000","v":26.811675000000001},{"$f":"I53/100000","v":0.90700000000000003},{"$f":"J53*1/1000","v":0},{"$f":"K53/100000","v":0},{"$f":"L53*1.032/1000","v":0},{"$f":"M53/100000","v":0},{"$f":"N53/1000","v":0},{"$f":"O53/100000","v":0},{"$f":"P53*1.027/1000","v":1211.2088819999999},{"$f":"Q53/100000","v":46.41442},{"$f":"R53*1.027/1000","v":1211.2088819999999},{"$f":"S53/100000","v":46.41442},{"$f":"T53*1.032/1000","v":17484.085176000001},{"$f":"U53/100000","v":15.69646},{"$f":"V53*1.032/1000","v":17484.085176000001},{"$f":"W53/100000","v":15.69646},{"$f":"X53*1/1000","v":3842.9160000000002},{"$f":"Y53/100000","v":1520.2374199999999},{"$f":"Z53*1/1000","v":1759.854},{"$f":"AA53/100000","v":706.06449999999995},{"$f":"AB53/1000","v":104999.92275999999},{"$f":"AC53/1000","v":104999.92275999999},{"$f":"AD53*1.027/1000","v":0},{"$f":"AE53/100000","v":0},{"$f":"AF53*1.027/1000","v":21298.90165},{"$f":"AG53/100000","v":803.35571000000004},{"$f":"AH53*1.027/1000","v":0},{"$f":"AI53/100000","v":0},{"$f":"AJ53*1.027/1000","v":92494.409331999981},{"$f":"AK53/100000","v":3209.2267299999999},{"$f":"AL53*1.03/1000","v":84180.224705000001},{"$f":"AM53/100000","v":1285.2606499999999},{"$f":"AN53*1.03/1000","v":0},{"$f":"AO53/100000","v":0},{"$f":"AP53*1.03/1000","v":413616.41865500004},{"$f":"AQ53/100000","v":6282.15254},{"$f":"AR53*1.032/1000","v":13.956768},{"$f":"AS53/100000","v":7.5649999999999995E-2},{"$f":"AT53*1.032/1000","v":0},{"$f":"AU53/100000","v":0},{"$f":"AV53*1.032/1000","v":12421.808352},{"$f":"AW53/100000","v":42.579740000000001},{"$f":"AX53*1.03/1000","v":8624.7019099999998},{"$f":"AY53/100000","v":90.188270000000003},{"$f":"AZ53*1.015/1000","v":32519.544910544999},{"$f":"BA53/100000","v":4592.6873299999997},{"$f":"BB53*1/1000","v":22780.695899999999},{"$f":"BC53/100000","v":7409.4338749999997},{"$f":"BD53*1.03/1000","v":9555.0628000000015},{"$f":"BE53/100000","v":279.35802999999999},{"$f":"BF53*1.03/1000","v":21012.271920000003},{"$f":"BG53/100000","v":488.54468000000003},{"$f":"BH53/1000","v":84814.605670000004},{"$f":"BI53/100000","v":3646.4434500000002},{"$f":"BJ53/1000","v":45153.557590000004},{"$f":"BK53/100000","v":2056.54999},{"$f":"BL53*1.03/1000","v":8137.3512300000002},{"$f":"BM53/100000","v":138.28461999999999},{"$f":"BN53/1000","v":34317.018179999999},{"$f":"BO53/100000","v":1942.46893},{"$f":"BP53/1000","v":3327.674},{"$f":"BQ53/100000","v":181.61068},{"$f":"BR53/1000","v":6861.8519999999999},{"$f":"BS53/100000","v":551.81903},{"$f":"BT53/1000","v":6.0250000000000004},{"$f":"BU53/100000","v":2.7056399999999998},{"$f":"BV53/1000","v":12381.682000000001},{"$f":"BW53/100000","v":3284.6372900000001},{"$f":"BX53/1000","v":148.19999999999999},{"$f":"BY53/100000","v":20.039259999999999},{"$f":"BZ53/1000","v":25378.992999999999},{"$f":"CA53/100000","v":90.425719999999998},{"$f":"CB53/1000","v":148.625},{"$f":"CC53/100000","v":5.9450000000000003E-2},{"$f":"CD53/1000","v":566.54100000000005},{"$f":"CE53/100000","v":154.02612999999999},{"$f":"CF53/1000","v":23848.29696},{"$f":"CG53/100000","v":20032.175090000001},{"$f":"CH53/1000","v":0},{"$f":"CI53/100000","v":0},{"$f":"CJ53/1000","v":0},{"$f":"CK53/100000","v":0},{"$f":"CL53/1000","v":227.24},{"$f":"CM53/100000","v":150.20371},{"$f":"CN53/1000","v":0},{"$f":"CO53/100000","v":0},{"$f":"CP53/1000","v":7486.3320999999996},{"$f":"CQ53/100000","v":2847.4441700000002},{"$f":"CR53/1000","v":7922.4791999999998},{"$f":"CS53/100000","v":945.50906999999995},{"$f":"CT53/1000","v":121218.82407999999},{"$f":"CU53/100000","v":21505.144655200002},{"$f":"CV53/1000","v":0},{"$f":"CW53/1000","v":2.8780000000000001},0,13783.65093,{"$f":"CZ53/100000","v":3114.6776799999998},307.96737999999999,{"$f":"DB53/100000","v":56.104824000000001},40595.834179999998,{"$f":"DD53/100000","v":9449.7562548999995},8373.2525000000005,{"$f":"DF53/100000","v":2023.7779499999999},9119.6149999999998,{"$f":"DH53/100000","v":2640.2656499999998},57475.75909,{"$f":"DJ53/100000","v":5249.0292163000004},12652.129949999999,{"$f":"DL53/1000","v":0},{"$f":"DM53/100000","v":0},{"$f":"DN53*1.027/1000","v":226554.27232099997},{"$f":"DO53*1.27/1000","v":94580.679519999991},{"$f":"DP53/1000","v":33247.53},{"$f":"DQ53/1000","v":0},{"$f":"DR53/1000","v":0},{"$f":"DS53/1000","v":2131.0039999999999},{"$f":"DT53/100000","v":0.65866000000000002},{"$f":"DU53*1.03/1000","v":79.373860000000008},{"$f":"DV53/100000","v":0.38661000000000001},{"$f":"DW53*1.027/1000","v":184559.70211899999},{"$f":"DX53/100000","v":6679.6030389999996},{"$f":"DY53*1.027/1000","v":184559.70211899999},{"$f":"DZ53/100000","v":6679.6030389999996},{"$f":"EA53*1/1000","v":7189.7662499999997},{"$f":"EB53/100000","v":2863.7550799999999},{"$f":"EC53*1/1000","v":7189.7662499999997},{"$f":"ED53/100000","v":2863.7550860000001},{"$f":"EE53*1.027/1000","v":60645.899742999994},{"$f":"EF53/100000","v":1303.96605}]

{"sheet":"Tab. B_EU","index":1,"n_rows":123,"n_cols":12,"rows_kept":123,"cut":false,"hidden":true,"merged":[[10,3,10,4],[10,5,10,6],[10,7,10,8],[8,2,9,2],[8,3,8,8],[9,3,9,4],[9,5,9,6],[9,7,9,8],[30,2,31,2],[30,3,30,10],[31,3,31,4],[31,5,31,6],[31,7,31,8],[31,9,31,10],[30,12,33,14],[32,3,32,4],[32,5,32,6],[32,7,32,8],[32,9,32,10]]}
["ANNUAL PRODUCTION AND UTILIZATION OF MILK"]
["( all milk ) in dairies"]
["TABLE B"]
["Theme :4.01 - Agricultural statistics"]
["Domain :MILK"]
["Dataset :MILK_TABLEB_A"]
["Year :2015     Reference period :2014     Country :CZ     "]
[null,null," "]
[null,null,null,"2014-Annual"]
[null,null,null,"Quantities  (1000 t)",null,"Milk Fat Content (t)",null,"Milk Proteins (t)"]
["Hierarchy structure","Code",null,"PRO",null,"FAT",null,"PAT"]
["1","NOCODE1","Availabilities",null,null,null,null,null,null,null,"Code"]
["2","MC001","Cows' milk collected from farms:",{"$f":"Databáze!C62/1000","v":2370.2038039471995},"F",{"$f":"Databáze!D62","v":87855.133997420009},"F",{"$f":"Databáze!E62","v":77329.234326129997},"F",null,"PRO","Field si mandatory, value must be >= 2200, value must be <= 2800"]
["3","NOCODE2","Other availabilities collected:",null,null,null,null,null,null,null,"FAT","Field si mandatory, value must be >= 80000, value must be <= 105000"]
["4","MC002","Ewes' milk",{"$f":"Databáze!F62/1000","v":0},"F",{"$f":"Databáze!G62","v":0},"F",null,null,null,"PAT","Field si mandatory, value must be >= 70000, value must be <= 100000"]
["5","MC003","Goats' milk",{"$f":"Databáze!H62/1000","v":2.6811675E-2},"C, F",{"$f":"Databáze!I62","v":0.90700000000000003},"C,F"]
["6","MC004","Buffalo milk ",0,"F",0,"F"]
["7","MC005","Cream",{"$f":"Databáze!J62/1000","v":0},"F",{"$f":"Databáze!K62","v":0},"F"]
["8","MC006","Skimmed milk and buttermilk",{"$f":"Databáze!L62/1000","v":0},"F",{"$f":"Databáze!M62","v":0},"F"]
["9","MC009","Other products (...specify ...)",{"$f":"Databáze!N62/1000","v":0},"F",{"$f":"Databáze!O62","v":0},"F"]
["10","NOCODE3","Imports and intra-community arrivals from dairies outside the national territory:"]
["11","MC010","Whole milk, including raw milk",{"$f":"Databáze!P62/1000","v":1.211208882},"F",{"$f":"Databáze!Q62","v":46.41442},"F"]
["12","MC020","Of which Member States",{"$f":"Databáze!R62/1000","v":1.211208882},"F",{"$f":"Databáze!S62","v":46.41442},"F"]
["13","MC014","Skimmed milk",{"$f":"Databáze!T62/1000","v":17.484085176000001},"C, F",{"$f":"Databáze!U62","v":15.69646},"C, F"]
["14","MC024","Of which Member States",{"$f":"Databáze!V62/1000","v":17.484085176000001},"C, F",{"$f":"Databáze!W62","v":15.69646},"F"]
["15","MC015","Cream",{"$f":"Databáze!X62/1000","v":3.8429160000000002},"F",{"$f":"Databáze!Y62","v":1520.2374199999999},"F"]
["16","MC025","Of which Member States",{"$f":"Databáze!Z62/1000","v":1.759854},"F",{"$f":"Databáze!AA62","v":706.06449999999995},"F"]
["17","MC019","Other products (curd, cheese,whey in the liquid state, butter, milk powder)",{"$f":"Databáze!AB62/1000","v":104.99992275999999},"C, F"]
["18","MC029","Of which Member States",{"$f":"Databáze!AC62/1000","v":104.99992275999999},"C, F"]
[null,null," "]
[null,null,null,"2014-Annual"]
[null,null,null,"Quantities  (1000 t)",null,"Milk Fat Content (t)",null,"Whole milk (1000 t)",null,"Skimmed milk (1000 t)"]
["Hierarchy structure","Code",null,"PRO",null,"FAT",null,"UWM",null,"USM"]
["1","NOCODE1","Utilization"]
["2","MC100","Fresh products",null,null,{"$f":"SUM(F36,F50:F51,F54,F57:F58)","v":30645.091819999998},"F",{"$f":"SUM(H36,H50:H51,H54,H57:H58)","v":876.46045165531712},"F",{"$f":"SUM(J36,J50:J51,J54,J57:J58)","v":21.944339126682948},"F"]
["2.1","MC110","Drinking milk",{"$f":"SUM(D37,D38,D42,D46)","v":624.0257194620001},"F",11294.87,"F",301.75,"F",{"$f":"D36-H36","v":322.2757194620001},"F"]
["2.1.1","MC111","Raw milk",{"$f":"Databáze!AD62/1000","v":0},"F"]
["2.1.2","MC112","Whole milk",{"$f":"SUM(D39:D41)","v":113.79331098199998},"F"]
["2.1.2.1","MC922","Pasteurized",{"$f":"Databáze!AF62/1000","v":21.298901650000001},"F"]
["2.1.2.2","MC932","Sterilized",{"$f":"Databáze!AH62/1000","v":0},"F"]
["2.1.2.3","MC942","Uperized",{"$f":"Databáze!AJ62/1000","v":92.494409331999975},"F"]
["2.1.3","MC113","Semi-skimmed milk",{"$f":"SUM(D43:D45)","v":497.79664336000002},"F"]
["2.1.3.1","MC923","Pasteurized ",{"$f":"Databáze!AL62/1000","v":84.180224705000001},"F"]
["2.1.3.2","MC933","Sterilized ",{"$f":"Databáze!AN62/1000","v":0},"F"]
["2.1.3.3","MC943","Uperized",{"$f":"Databáze!AP62/1000","v":413.61641865500002},"F"]
["2.1.4","MC114","Skimmed milk",{"$f":"SUM(D47:D49)","v":12.435765119999999},"F"]
["2.1.4.1","MC924","Pasteurized",{"$f":"Databáze!AR62/1000","v":1.3956768E-2},"C, F"]
["2.1.4.2","MC934","Sterilized",{"$f":"Databáze!AT62/1000","v":0},"F"]
["2.1.4.3","MC944","Uperized",{"$f":"Databáze!AV62/1000","v":12.421808351999999},"F"]
["2.2","MC120","Buttermilk ",{"$f":"Databáze!AX62/1000","v":8.6247019100000006},"F",{"$f":"Databáze!AY62","v":90.188270000000003},"F",{"$f":"F50*SUM($D$13,$D$18,$D$19,$D$22,$D$24,$D$26,)/SUM($F$13,$F$18,$F$19,$F$22,$F$24,$F$26)","v":2.4128280141185257},"F",{"$f":"D50-H50","v":6.2118738958814745},"F"]
["2.3","MC130","Cream",53.93,"F",11704.78,"F",{"$f":"F51*SUM($D$13,$D$18,$D$19,$D$22,$D$24,$D$26,)/SUM($F$13,$F$18,$F$19,$F$22,$F$24,$F$26)","v":313.1407341896483},"F",{"$f":"D51-H51","v":-259.21073418964829},"F"]
["2.3.1","MC135","of fat content not exceeding 29%",{"$f":"Databáze!AZ62/1000","v":32.519544910545001},"F"]
["2.3.2","MC136","Over 29%",21.41,"F"]
["2.4","MC140","Acidified milk (Yoghurts drinking yoghurts and other) ",169.37,"F",5474.5,"F",203.49,"F",{"$f":"D54-H54","v":-34.120000000000005},"F"]
["2.4.1","MC141","With additives",{"$f":"SUM(Databáze!BD62,Databáze!BH62)/1000","v":94.369668470000008},"F"]
["2.4.2","MC142","Without additives",75,"F"]
["2.5","MC150","Drinks with a milk base",{"$f":"Databáze!BL62/1000","v":8.1373512300000002},"F",{"$f":"Databáze!BM62","v":138.28461999999999},"F",{"$f":"F57*SUM($D$13,$D$18,$D$19,$D$22,$D$24,$D$26,)/SUM($F$13,$F$18,$F$19,$F$22,$F$24,$F$26)","v":3.699560985677349},"F",{"$f":"D57-H57","v":4.4377902443226507},"F"]
["2.6","MC160","Other fresh products (Milk jelly and others) ",{"$f":"Databáze!BN62/1000","v":34.317018179999998},"F",{"$f":"Databáze!BO62","v":1942.46893},"F",{"$f":"F58*SUM($D$13,$D$18,$D$19,$D$22,$D$24,$D$26,)/SUM($F$13,$F$18,$F$19,$F$22,$F$24,$F$26)","v":51.967328465872967},"F",{"$f":"D58-H58","v":-17.650310285872969},"F"]
["3","MC200","Manufactured products",null,null,{"$f":"SUM(F60,F63,F71,F80,F94:F95,F101)","v":48431.669958612605},"F",{"$f":"SUM(H60,H63,H71,H80,H94,H101)","v":1250.2729082147537},"F",{"$f":"SUM(J60,J63,J71,J80,J94,J101)","v":-13.570046172640257},"F"]
["3.1","MC210","Concentrated milk",{"$f":"SUM(D61:D62)","v":10.189526000000001},"F",{"$f":"SUM(Databáze!BQ62,Databáze!BS62)","v":733.42971},"F",{"$f":"F60*SUM($D$13,$D$18,$D$19,$D$22,$D$24,$D$26,)/SUM($F$13,$F$18,$F$19,$F$22,$F$24,$F$26)","v":19.621617652437795},"F",{"$f":"(D61*2.9+D62*3.3)-H60","v":12.672748547562204},"F"]
["3.1.1","MC211","Not sweetened",{"$f":"Databáze!BP62/1000","v":3.327674},"C, F"]
["3.1.2","MC212","Sweetened",{"$f":"Databáze!BR62/1000","v":6.8618519999999998},"C, F"]
["3.2","MC220","Powdered dairy products ",{"$f":"SUM(D64:D66,D68:D70)","v":38.630065999999999},"F",{"$f":"SUM(F67:F70)","v":3551.8934900000008},"F",{"$f":"SUM(H67:H70)","v":95.024642515453721},"F",{"$f":"SUM(J67:J70)","v":239.54307848454627},"F"]
["3.2.1","MC221","Cream milk powder ",{"$f":"Databáze!BT62/1000","v":6.025E-3},"C, F"]
["3.2.2","MC222","Whole milk powder",{"$f":"Databáze!BV62/1000","v":12.381682000000001},"F"]
["3.2.3","MC223","Partly skimmed-milk powder",{"$f":"Databáze!BX62/1000","v":0.1482},"C, F"]
["3.2.4","MC226","MC221 MC222 MC223",null,null,{"$f":"SUM(Databáze!BU62,Databáze!BW62,Databáze!BY62)","v":3307.3821900000003},"F",{"$f":"F67*SUM($D$13,$D$18,$D$19,$D$22,$D$24,$D$26,)/SUM($F$13,$F$18,$F$19,$F$22,$F$24,$F$26)","v":88.483174158110359},"F",{"$f":"(SUM(D64:D65)*8+D66*9)-H67","v":11.952281841889643},"F"]
["3.2.5","MC224","Skimmed-milk powder",{"$f":"Databáze!BZ62/1000","v":25.378992999999998},"F",{"$f":"Databáze!CA62","v":90.425719999999998},"F",{"$f":"F68*SUM($D$13,$D$18,$D$19,$D$22,$D$24,$D$26,)/SUM($F$13,$F$18,$F$19,$F$22,$F$24,$F$26)","v":2.4191805698550137},"F",{"$f":"D68*9-H68","v":225.99175643014499},"F"]
["3.2.6","MC225","Buttermilk",{"$f":"Databáze!CB62/1000","v":0.14862500000000001},"C, F",{"$f":"Databáze!CC62","v":5.9450000000000003E-2},"C, F",{"$f":"F69*SUM($D$13,$D$18,$D$19,$D$22,$D$24,$D$26,)/SUM($F$13,$F$18,$F$19,$F$22,$F$24,$F$26)","v":1.5904798422161368E-3},"C, F",{"$f":"D69*8-H69","v":1.1874095201577839},"C, F"]
["3.2.7","MC229","Other powder products",{"$f":"Databáze!CD62/1000","v":0.56654100000000007},"C, F",{"$f":"Databáze!CE62","v":154.02612999999999},"C, F",{"$f":"F70*SUM($D$13,$D$18,$D$19,$D$22,$D$24,$D$26,)/SUM($F$13,$F$18,$F$19,$F$22,$F$24,$F$26)","v":4.1206973076461253},"C, F",{"$f":"D70*8-H70","v":0.41163069235387528},"C, F"]
["3.3","MC203","Butter and other yellow fat  dairy products (MC231+MC232+MC239)",{"$f":"SUM(F72,F76,F77)*1.22/1000","v":26.795839952799998},"F",{"$f":"SUM(F72,F76,F77)","v":21963.803239999997},"F",{"$f":"SUM(H72,H76,H77)","v":587.60902676085925},"F",{"$f":"SUM(J72,J76,J77)","v":-550.51398620414579},"F"]
["3.3.1","MC231","Butter",21.68,"F",18170.849999999999,"F",{"$f":"F72*SUM($D$13,$D$18,$D$19,$D$22,$D$24,$D$26,)/SUM($F$13,$F$18,$F$19,$F$22,$F$24,$F$26)","v":486.12902676085929},"F",{"$f":"D72-H72","v":-464.44902676085928},"F"]
["3.3.1.1","MC2311","Traditional butter *",{"$f":"Databáze!CH62/1000","v":0},"F",{"$f":"Databáze!CI62","v":0},"F",{"$f":"F73*SUM($D$13,$D$18,$D$19,$D$22,$D$24,$D$26,)/SUM($F$13,$F$18,$F$19,$F$22,$F$24,$F$26)","v":0},"F",{"$f":"D73-H73","v":0},"F"]
["3.3.1.2","MC2312","Recombined butter *",{"$f":"Databáze!CJ62/1000","v":0},"F",{"$f":"Databáze!CK62","v":0},"F",{"$f":"F74*SUM($D$13,$D$18,$D$19,$D$22,$D$24,$D$26,)/SUM($F$13,$F$18,$F$19,$F$22,$F$24,$F$26)","v":0},"F",{"$f":"D74-H74","v":0},"F"]
["3.3.1.3","MC2313","Whey butter *",{"$f":"Databáze!CL62/1000","v":0.22724},"C, F",{"$f":"Databáze!CM62","v":150.20371},"C, F",{"$f":"F75*SUM($D$13,$D$18,$D$19,$D$22,$D$24,$D$26,)/SUM($F$13,$F$18,$F$19,$F$22,$F$24,$F$26)","v":4.018435205737231},"C, F",{"$f":"D75-H75","v":-3.7911952057372309},"C, F"]
["3.3.2","MC232","Rendered butter and butteroil",{"$f":"Databáze!CN62/1000","v":0},"F",{"$f":"Databáze!CO62","v":0},"F",{"$f":"F76*SUM($D$13,$D$18,$D$19,$D$22,$D$24,$D$26,)/SUM($F$13,$F$18,$F$19,$F$22,$F$24,$F$26)","v":0},"F",{"$f":"D76-H76","v":0},"F"]
["3.3.3","MC239","Other yellow fat dairy products (MC2391+MC2392)",{"$f":"SUM(D78:D79)","v":15.4088113},"F",{"$f":"SUM(F78:F79)","v":3792.9532400000003},"F",101.48,"F",{"$f":"SUM(J78:J79)","v":-86.06495944328654},"F"]
["3.3.3.1","MC2391","Reduced-fat butter *",{"$f":"Databáze!CP62/1000","v":7.4863320999999994},"F",{"$f":"Databáze!CQ62","v":2847.4441700000002},"F",{"$f":"F78*SUM($D$13,$D$18,$D$19,$D$22,$D$24,$D$26,)/SUM($F$13,$F$18,$F$19,$F$22,$F$24,$F$26)","v":76.178344057541779},"F",{"$f":"D78-H78","v":-68.69201195754178},"F"]
["3.3.3.2","MC2392","Other *",{"$f":"Databáze!CR62/1000","v":7.9224791999999997},"F",{"$f":"Databáze!CS62","v":945.50906999999995},"F",{"$f":"F79*SUM($D$13,$D$18,$D$19,$D$22,$D$24,$D$26,)/SUM($F$13,$F$18,$F$19,$F$22,$F$24,$F$26)","v":25.295426685744761},"F",{"$f":"D79-H79","v":-17.37294748574476},"F"]
["3.4","MC240","Cheese (MC241+MC242+MC243+MC249) or (MC291+MC292+MC293+MC294+MC295+MC296)",{"$f":"SUM(D82:D85)","v":116.642878},"F",{"$f":"F82","v":20271.48},"F",{"$f":"H82","v":548},"F",{"$f":"J82","v":282.61473028540001},"F"]
["3.4.1","NOCODE2","Cheese by milk category:"]
["3.4.1.1","MC241","Cheese from cows' milk (pure)",116.64,"F",20271.48,"F",548,"F",{"$f":"(D87*7+D88*8+D89*9.53+D90*10+D91*14+D92*3)-H82","v":282.61473028540001},"F"]
["3.4.1.2","MC242","Cheese from ewes' milk (pure)",{"$f":"Databáze!CV62/1000","v":0},"F"]
["3.4.1.3","MC243","Cheese from goats' milk (pure)",{"$f":"Databáze!CW62/1000","v":2.8779999999999999E-3},"C, F"]
["3.4.1.4","MC249","Others (mixed or cheese from buffalos' milk (pure)",{"$f":"Databáze!CX62/1000","v":0},"F"]
["3.4.2","NOCODE3","Cheese (all milks) by category:"]
["3.4.2.1","MC291","Soft cheese",{"$f":"Databáze!CY62/1000","v":13.78365093},"F"]
["3.4.2.2","MC292","Medium-soft cheese",{"$f":"Databáze!DA62/1000","v":0.30796738000000001},"C, F"]
["3.4.2.3","MC293","Medium-hard cheese",{"$f":"Databáze!DC62/1000","v":40.595834179999997},"F"]
["3.4.2.4","MC294","Hard cheese",{"$f":"Databáze!DE62/1000","v":8.3732525000000013},"F"]
["3.4.2.5","MC295","Extra hard cheese",{"$f":"Databáze!DG62/1000","v":9.1196149999999996},"C, F"]
["3.4.2.6","MC296","Fresh cheese",44.46,"F"]
["3.5","MC250","Processed cheese",{"$f":"Databáze!DK62/1000","v":12.652129949999999},"F"]
["3.6","MC260","Casein and caseinates",{"$f":"Databáze!DL62/1000","v":0},"F",{"$f":"Databáze!DM62","v":0},"F",{"$f":"F94*SUM($D$13,$D$18,$D$19,$D$22,$D$24,$D$26,)/SUM($F$13,$F$18,$F$19,$F$22,$F$24,$F$26)","v":0},"F",{"$f":"D94-H94","v":0},"F"]
["3.7","MC270","Whey, total",{"$f":"D96+D97*6.9+D98*14.6","v":1364.5748990089999},"F",{"$f":"D95*1.4","v":1910.4048586125996},"F"]
["3.7.1","MC271","Whey delivered in the liquid state",{"$f":"Databáze!DN62/1000","v":226.55427232099996},"F"]
["3.7.2","MC272","Whey delivered in the concentrated state",{"$f":"Databáze!DO62/1000","v":94.58067951999999},"F"]
["3.7.3","MC273","Whey in powder or block",{"$f":"Databáze!DP62/1000","v":33.247529999999998},"F"]
["3.7.4","MC274","Lactose (milk sugar)",{"$f":"Databáze!DQ62/1000","v":0},"F"]
["3.7.5","MC275","Lactalbumin",{"$f":"Databáze!DR62/1000","v":0},"F"]
["3.8","MC280","Other manufactured products (analogues, permeat, retentat)",{"$f":"Databáze!DS62/1000","v":2.1310039999999999},"F",{"$f":"Databáze!DT62","v":0.65866000000000002},"F",{"$f":"F101*SUM($D$13,$D$18,$D$19,$D$22,$D$24,$D$26,)/SUM($F$13,$F$18,$F$19,$F$22,$F$24,$F$26)","v":1.7621286002928185E-2},"F",{"$f":"D101-H101","v":2.1133827139970718},"F"]
["4","MC320","Skimmed-milk and buttermilk returned to farms",{"$f":"Databáze!DU62/1000","v":7.9373860000000004E-2},"C, F",{"$f":"Databáze!DV62","v":0.38661000000000001},"F",null,null,{"$f":"D102","v":7.9373860000000004E-2},"F"]
["5","MC400","Exports and dispatches of  milk and cream in bulk ",{"$f":"SUM(Databáze!DW62,Databáze!EA62)/1000","v":191.74946836899997},"C, F",{"$f":"SUM(Databáze!DX62,Databáze!EB62)","v":9543.3581190000004},"C, F",224.49,"C, F",{"$f":"D103-H103","v":-32.740531631000039},"C, F"]
["5.1","MC410","Of which Member States",{"$f":"SUM(Databáze!DY62,Databáze!EC62)/1000","v":191.74946836899997},"C, F",{"$f":"SUM(Databáze!DZ62,Databáze!ED62)","v":9543.3581249999988},"C, F",224.49,"C, F",{"$f":"D104-H104","v":-32.740531631000039},"C, F"]
["6","MC500","Other uses (drinking milk for gastronomy, 12 l pack)",{"$f":"Databáze!EE62/1000","v":60.645899742999994},"F",709.56,"F",{"$f":"F105*SUM($D$13,$D$18,$D$19,$D$22,$D$24,$D$26,)/SUM($F$13,$F$18,$F$19,$F$22,$F$24,$F$26)","v":18.983025682807096},"F",{"$f":"D105-H105","v":41.662874060192898},"F"]
["7","MC600","Differences",null,null,108.32,"F",5.07,"F",0.1,"F"]
["8","MC900","Total",{"$f":"SUM(D36,D50,D51,D54,D57,D58,D60,D63,D71,D80,D93,D94,D95,D99,D100,D101,D102,D103,D105)","v":2722.4958756658002},"F",{"$f":"SUM(F35,F59,F102,F103,F105,F106)","v":89438.386507612609},"F",{"$f":"SUM(H35,H59,H103,H105,H106)","v":2375.2763855528779},"F",{"$f":"SUM(J35,J59,J102,J103,J105,J106)","v":17.476009243235552},"F"]
[null,null," "]
["FOOTER",null,null,null,null,{"$f":"F106/F107","v":1.2111130827564768E-3},null,{"$f":"H106/H107","v":2.1344884455708883E-3},null,{"$f":"J106/J107","v":5.722130184767844E-3}]
[]
["SPECIAL VALUES KEY"]
["C    Confidential"]
["NA    Not available",null,"nepoužívat pro položky požadované podle legislativy"]
[]
["FLAGS KEY"]
["P    Provisional"]
["F    Final"]
["C    Confidential"]
["R    Revised"]
["E    Estimated"]
["U    Unreliable"]
[]
["Comment"]

{"sheet":"Tab.C_EU","index":2,"n_rows":68,"n_cols":8,"rows_kept":68,"cut":false,"hidden":true,"merged":[[8,3,8,4],[9,2,9,4],[20,2,20,4],[39,2,39,4]]}
["ANNUAL PRODUCTION AND UTILIZATION OF MILK (ALL MILK) ON FARMS"]
["TABLE C"]
["1000 tons"]
["Theme :4.01 - Agricultural statistics"]
["Domain :MILK"]
["Dataset :MILK_TABLEC_A"]
["Year :201x     Reference period :201x     Country :CZ     "]
[null,null," "]
["Hierarchy level","Code",null,"201x-Annual"]
[1,"NOCODE1","AVAILABILITIES"]
["1.1","MF001 PRO","Cows' milk  (whole milk)",null,null,null,null,"Field is mandatory, value =>2500, value = < 3000"]
["1.1.1","MF009 PRO","of which dairy cows' milk (wm)",{"$f":"'Tab. B_EU'!D13","v":2370.2038039471995},null,null,null,"Field is mandatory, value <= cows milk"]
["1.2","MF002 PRO","Ewes' milk (wm)"]
["1.3","MF003 PRO","Goats' milk (wm)",{"$f":"'Tab. B_EU'!$D$16","v":2.6811675E-2}]
["1.4","MF004 PRO","Buffalo milk (wm)"]
["1.5","MF000 PRO","Total 1  (wm)",{"$f":"SUM(D11,D13:D15)","v":2.6811675E-2}]
["1.6","MF011 PRO","Returned by dairies (Skimmed milk, buttermilk) ",{"$f":"'Tab. B_EU'!D102","v":7.9373860000000004E-2}]
["1.7","MF012 PRO","Balance of cream deliveries (sb)"]
["1.8","MF013 PRO","Farm butter and cream production (sb)"]
["1.9","MF010 PRO","Total 1 (sb)",{"$f":"SUM(D17:D19)","v":7.9373860000000004E-2}]
["2","NOCODE2","UTILIZATION"]
["2.1","MF110 UWM","Drinking Milk (wm)",{"$f":"SUM(D23:D24)","v":0},null,null,null,"Field si mandatory , total from home consumption (MF119 UWM)  and direct sales (MF118 UWM)"]
["2.1.1","MF119 UWM","a: Home consumption (wm)"]
["2.1.2","MF118 UWM","b: Direct sales (wm)"]
["2.2","MF030 UWM","Farm butter and cream (wm)"]
["2.3","MF240 UWM","Farm cheese (wm)"]
["2.4","MF290 UWM","Other products (wm)"]
["2.5","MF520 UWM","Feed (wm)"]
["2.6","MF400 UWM","Delivered to dairies (wm)",{"$f":"SUM(D30:D32)","v":2370.2038039471995}]
["2.6.1","MF410 UWM","a: Milk  (wm)",{"$f":"'Tab. B_EU'!D13","v":2370.2038039471995}]
["2.6.2","MF430 UWM","b: Cream (in milk equivalent)  (wm)"]
["2.6.3","MF490 UWM","c: Other products (wm)"]
["2.7","MF600 UWM","Difference and losses (wm)"]
["2.8","MF000 UWM","Total 2 (wm)",{"$f":"SUM(D22,D25:D29)","v":2370.2038039471995}]
["2.9","MF110 USM","Drinking milk (skimmed milk and buttermilk)"]
["2.10","MF240 USM","Farm cheese (sb)"]
["2.11","MF520 USM","Feed (sb)"]
["2.12","MF400 USM","Delivered to dairies (sb)"]
["2.13","MF010 USM","Total 2 (sb)",{"$f":"SUM(D35:D38)","v":0}]
["3","NOCODE3","PRODUCTS OBTAINED"]
["3.1","MF110 PRO","Drinking milk",{"$f":"SUM(D42:D43)","v":0}]
["3.1.1","MF119 PRO","a: Home consumption"]
["3.1.2","MF118 PRO","b: Direct sales"]
["3.2","MF130 PRO","Farm cream"]
["3.2.1","MF131 PRO","of which delivered to dairies"]
["3.3","MF230 PRO","Farm butter"]
["3.3.1","MF231 PRO","of which delivered to dairies"]
["3.4","MF240 PRO","Farm cheese"]
["3.4.1","MF241 PRO","of which delivered to dairies"]
["3.5","MF290 PRO","Other products"]
["3.5.1","MF291 PRO","of which delivered to dairies"]
[null,null," "]
["FOOTER"]
[]
["SPECIAL VALUES KEY"]
["C    Confidential"]
["NA    Not available",null,"nepoužívat pro položky požadované podle legislativy"]
[]
["FLAGS KEY"]
["P    Provisional"]
["F    Final"]
["C    Confidential"]
["R    Revised"]
["E    Estimated"]
["U    Unreliable"]
[]
[null,null," "]
["Comment"]

{"sheet":"Tab. H_EU","index":3,"n_rows":44,"n_cols":7,"rows_kept":44,"cut":false,"hidden":true,"merged":[[8,6,10,6],[8,1,9,1],[8,2,8,5],[9,2,9,3],[9,4,9,5],[10,2,10,3],[10,4,10,5]]}
["Dairies' Activities"]
["Protein content of cows' milk in the main milk products"]
["Table H"]
["Theme :4.01 - Agricultural statistics"]
["Domain :MILK"]
["Dataset :MILK_PROTEIN_A"]
["Year :2015     Reference period :2014     Country :CZ     "]
[null," "]
[null,null,"2014-Annual",null,null,null,"Kontrolní propočet na % obsah bílkovin ve výrobku"]
[null,null,"Quantity (1000 t)",null,"Protein content (1 t)"]
["Code",null,"PRO",null,"OUT"]
["PLV1100","FRESH PRODUCTS - Drinking milk",{"$f":"'Tab. B_EU'!D36","v":624.0257194620001},"F",{"$f":"SUM('Tab. B_EU'!H36,'Tab. B_EU'!J36)*'Tab. B_EU'!$H$13/'Tab. B_EU'!$D$13","v":20359.190633922313},"F",{"$f":"E12/(C12*1000)","v":3.2625563336515784E-2}]
["PLV1120","Whole milk",{"$f":"'Tab. B_EU'!D38","v":113.79331098199998},"F",{"$f":"SUM('Tab. B_ČR'!F32:G32)*'Tab. B_EU'!$H$13/'Tab. B_EU'!$D$13","v":0},"F",{"$f":"E13/(C13*1000)","v":0}]
["PLV1130","Semi-skimmed milk",{"$f":"'Tab. B_EU'!D42","v":497.79664336000002},"F",{"$f":"SUM('Tab. B_ČR'!F36:G36)*'Tab. B_EU'!$H$13/'Tab. B_EU'!$D$13","v":0},"F",0]
["PLV1140","Skimmed milk",{"$f":"'Tab. B_EU'!D46","v":12.435765119999999},"F",{"$f":"SUM('Tab. B_ČR'!F40:G40)*'Tab. B_EU'!$H$13/'Tab. B_EU'!$D$13","v":0},"F",0]
["PLV1200","Buttermilk",{"$f":"'Tab. B_EU'!D50","v":8.6247019100000006},"F",{"$f":"SUM('Tab. B_EU'!H50,'Tab. B_EU'!J50)*'Tab. B_EU'!$H$13/'Tab. B_EU'!$D$13","v":281.38575842327367},"F",3.2625563336515784E-2]
["PLV1300","Cream",{"$f":"'Tab. B_EU'!D51","v":53.93},"F",{"$f":"SUM('Tab. B_EU'!H51,'Tab. B_EU'!J51)*'Tab. B_EU'!$H$13/'Tab. B_EU'!$D$13","v":1759.4966307382965},"F",3.2625563336515791E-2]
["PLV2100","MANUFACTURED PRODUCTS - Concentrated milk",{"$f":"'Tab. B_EU'!D60","v":10.189526000000001},"F",{"$f":"SUM('Tab. B_EU'!H60,'Tab. B_EU'!J60)*'Tab. B_EU'!$H$13/'Tab. B_EU'!$D$13","v":1053.6218898707345},"F",0.10340244383013836]
["PLV2210","Cream milk powder",{"$f":"'Tab. B_EU'!D64","v":6.025E-3},"C, F",{"$f":"SUM('Tab. B_ČR'!F58:G58)*'Tab. B_EU'!$H$13/'Tab. B_EU'!$D$13","v":0},"C, F",0]
["PLV2220","Whole milk powder",{"$f":"'Tab. B_EU'!D65","v":12.381682000000001},"F",{"$f":"SUM('Tab. B_ČR'!F59:G59)*'Tab. B_EU'!$H$13/'Tab. B_EU'!$D$13","v":3231.6748024287799},"F",0.26100450669212633]
["PLV2230","Partially skimmed-milk powder",{"$f":"'Tab. B_EU'!D66","v":0.1482},"C, F",{"$f":"SUM('Tab. B_ČR'!F60:G60)*'Tab. B_EU'!$H$13/'Tab. B_EU'!$D$13","v":0},"C, F",0]
["PLV2240","Skimmed-milk powder",{"$f":"'Tab. B_EU'!D68","v":25.378992999999998},"F",{"$f":"SUM('Tab. B_EU'!H68,'Tab. B_EU'!J68)*'Tab. B_EU'!$H$13/'Tab. B_EU'!$D$13","v":7452.0354918464163},"F",0.29363007002864205]
["PLV2250","Buttermilk powder",{"$f":"'Tab. B_EU'!D69","v":0.14862500000000001},"C, F",{"$f":"SUM('Tab. B_EU'!H69,'Tab. B_EU'!J69)*'Tab. B_EU'!$H$13/'Tab. B_EU'!$D$13","v":38.79179480711727},"C, F",0.26100450669212627]
["PLV2300","Butter and other yellow fat dairy products",{"$f":"SUM('Tab. B_EU'!D72,'Tab. B_EU'!D76,'Tab. B_EU'!D77)","v":37.088811300000003},"F",{"$f":"SUM('Tab. B_EU'!H71,'Tab. B_EU'!J71)*'Tab. B_EU'!$H$13/'Tab. B_EU'!$D$13","v":1210.2465951536765},"F",3.2631042967766304E-2]
["PLV2411","Cheese from cows' milk",{"$f":"'Tab. B_EU'!D82","v":116.64},"F",{"$f":"SUM('Tab. B_EU'!H82,'Tab. B_EU'!J82)*'Tab. B_EU'!$H$13/'Tab. B_EU'!$D$13","v":27099.273491169293},"F",0.2323325916595447]
["PLV2500","Processed cheese",{"$f":"'Tab. B_EU'!D93","v":12.652129949999999},"F",{"$f":"C26*123.48","v":1562.285006226},"F",0.12348000000000001]
["PLV2600","Casein and caseinates",{"$f":"'Tab. B_EU'!D94","v":0},"F",{"$f":"SUM('Tab. B_EU'!H94,'Tab. B_EU'!J94)*'Tab. B_EU'!$H$13/'Tab. B_EU'!$D$13","v":0},"F",0]
["PLV2700","Whey",{"$f":"'Tab. B_EU'!D95","v":1364.5748990089999},"F",{"$f":"C28*6.9","v":9415.5668031620989},"F",6.8999999999999999E-3]
[null," "]
["FOOTER",null,"Field is mandatory"]
[]
["SPECIAL VALUES KEY"]
["C    Confidential"]
["NA    Not available",null,"nepoužívat pro položky požadované podle legislativy "]
[]
["FLAGS KEY"]
["P    Provisional"]
["F    Final"]
["C    Confidential"]
["R    Revised"]
["E    Estimated"]
["U    Unreliable"]
[]
["Comment"]

{"sheet":"Tab. B_ČR","index":4,"n_rows":105,"n_cols":7,"rows_kept":105,"cut":false,"hidden":true,"merged":[[0,0,0,5],[1,0,1,5],[8,1,8,2],[7,3,7,5],[16,1,16,2],[2,0,2,5],[4,5,4,6],[17,1,17,2],[18,1,18,2],[6,6,6,8],[7,6,7,8],[19,1,19,2],[9,1,9,2],[10,1,10,2],[11,1,11,2],[12,1,12,2],[13,1,13,2],[14,1,14,2],[40,1,42,1],[20,1,20,2],[21,1,21,2],[22,1,22,2],[23,1,23,2],[28,1,28,2],[29,1,29,2],[30,1,30,2],[31,1,31,2],[32,1,34,1],[35,1,35,2],[36,1,38,1],[39,1,39,2],[57,1,62,1],[43,1,43,2],[44,1,44,2],[45,1,46,1],[47,1,47,2],[48,1,49,1],[50,1,50,2],[95,1,95,2],[96,1,96,2],[143,3,147,6],[97,1,97,2],[98,1,98,2],[117,3,118,6],[139,3,141,5],[26,0,27,0],[91,1,91,2],[92,1,92,2],[93,1,93,2],[83,1,83,2],[84,1,84,2],[85,1,85,2],[86,1,86,2],[87,1,89,1],[90,1,90,2],[78,1,78,2],[77,1,77,2],[79,1,79,2],[80,1,80,2],[81,1,81,2],[82,1,82,2],[94,1,94,2],[26,3,27,3],[26,4,27,4],[6,1,6,2],[26,1,27,2],[63,1,63,2],[64,1,68,1],[69,1,69,2],[70,1,71,1],[72,1,72,2],[73,1,76,1],[51,1,51,2],[52,1,52,2],[53,1,53,2],[54,1,55,1],[56,1,56,2],[87,7,91,9],[84,7,84,9],[15,6,15,8],[16,7,23,8],[26,7,27,9],[74,7,77,9],[26,5,26,6],[48,4,49,6],[45,4,46,6],[30,4,42,6]]}
["Tabulka B"]
["Roční produkce mléka a zpracování  v mlékárnách za referenční rok 2014. "]
["Annual production and utilization of milk in dairies."]
[]
["Kód ČS: CZ",null,null,null,null,"Rok/Reference year: 2014"]
[]
["Kód výrobku/                                  Product code","Nákup/Avalabilities",null,"Množství/ Quantity                                 (1000 t)","Obsah mléčného tuku/                           Milk fat content                           (t) ","Obsah bílkovin/                                       Protein content                               (t)"]
[]
["MC001","Kravské mléko/Cow´s milk  ",null,{"$f":"Databáze!C62/1000","v":2370.2038039471995},{"$f":"Databáze!D62","v":87855.133997420009},{"$f":"Databáze!E62","v":77329.234326129997}]
["MC002","Ovčí mléko/Ewe´s milk",null,{"$f":"Databáze!F62/1000","v":0},{"$f":"Databáze!G62","v":0}]
["MC003","Kozí mléko/Goat´s milk",null,"x","x"]
["MC004","Buvolí mléko/Buffalo milk",null,0,0]
["MC005","Smetana/Cream",null,{"$f":"Databáze!J62/1000","v":0},{"$f":"Databáze!K62","v":0}]
["MC006","Odstředěné mléko a podmáslí/Skimmed milk and buttermilk",null,{"$f":"Databáze!L62/1000","v":0},{"$f":"Databáze!M62","v":0}]
["MC009","Ostatní produkty/Other products",null,"x","x"]
["Nákup mléka a ostatních produktů ze zahraničí/Imports:"]
["MC010","Plnotučné mléko, včetně syrového mléka/Whole milk including raw milk",null,{"$f":"Databáze!P62/1000","v":1.211208882},{"$f":"Databáze!Q62","v":46.41442}]
["MC020","z toho členské země EU/Of which Member States",null,{"$f":"Databáze!R62/1000","v":1.211208882},{"$f":"Databáze!S62","v":46.41442}]
["MC014","Odstředěné mléko/Skimmed milk ",null,"x","x"]
["MC024","z toho členské země EU/Of which Member States",null,"x","x"]
["MC015","Smetana/Cream",null,{"$f":"Databáze!X62/1000","v":3.8429160000000002},{"$f":"Databáze!Y62","v":1520.2374199999999}]
["MC025","z toho členské země EU/Of which Member States",null,{"$f":"Databáze!Z62/1000","v":1.759854},{"$f":"Databáze!AA62","v":706.06449999999995}]
["MC019","Ostatní produkty/Other products",null,"x"]
["MC029","z toho členské země EU/Of which Member States",null,"x"]
[]
[null,null,null," "]
["Kód výrobku/                                  Product code","Mlékárenská výroba/Utilization",null,"Množství/ Quantity                                 (1000 t)","Obsah mléčného tuku/                           Milk fat content                           (t) ","Zpracované mléko/Processed milk"]
[null,null,null,null,null,"Plnotučné mléko/                            Whole milk                       (1000 t) [UWM]","Odstředěné mléko/                                                   Skimmed milk                                         (1000 t) [USM]"]
["MC100","Výrobky z čerstvého mléka celkem/Fresh products",null,null,30645.09,876.46,21.94]
["MC110","Konzumní mléko celkem/Drinking milk",null,{"$f":"SUM(D31,D32,D36,D40)","v":624.02995434200011},11294.87,301.75,322.27999999999997]
["MC111","Syrové mléko/Raw milk",null,{"$f":"Databáze!AD62/1000","v":0}]
["MC112","Plnotučné mléko celkem/Whole milk",null,{"$f":"SUM(D33:D35)","v":113.79331098199998}]
["MC922","v tom","pasterované/Pasteurised",{"$f":"Databáze!AF62/1000","v":21.298901650000001}]
["MC932",null,"sterilované/Sterilised",{"$f":"Databáze!AH62/1000","v":0}]
["MC942",null,"ošetřené UHT/Uperised",{"$f":"Databáze!AJ62/1000","v":92.494409331999975}]
["MC113","Polotučné mléko celkem/Semi-skimmed milk",null,{"$f":"SUM(D37:D39)","v":497.79664336000002}]
["MC923","v tom","pasterované/Pasteurised",{"$f":"Databáze!AL62/1000","v":84.180224705000001}]
["MC933",null,"sterilované/Sterilised",{"$f":"Databáze!AN62/1000","v":0}]
["MC943",null,"ošetřené UHT/Uperised",{"$f":"Databáze!AP62/1000","v":413.61641865500002}]
["MC114","Odtučněné mléko celkem/Skimmed milk",null,12.44]
["MC924","v tom","pasterované/Pasteurised","x"]
["MC934",null,"sterilované/Sterilised",{"$f":"Databáze!AT62/1000","v":0}]
["MC944",null,"ošetřené UHT/Uperised",{"$f":"Databáze!AV62/1000","v":12.421808351999999}]
["MC120","Podmáslí neochucené, bez přísad/Buttermilk",null,{"$f":"Databáze!AX62/1000","v":8.6247019100000006},90.19,2.41,6.21]
["MC130","Smetana celkem/Cream",null,{"$f":"SUM(D46:D47)","v":53.930000000000007},11704.78,313.14,-259.20999999999998]
["MC135","v tom","smetana o obsahu tuku nejvýše 29% hmotn./Of fat content by 29%",32.520000000000003]
["MC136",null,"smetana o obsahu tuku nad 29% hmotn./Over 29%",21.41]
["MC140","Kysané výrobky celkem/Acidified milk",null,{"$f":"SUM(D49:D50)","v":169.36966847000002},5474.5,203.49,-34.119999999999997]
["MC141","v tom","s přísadami/With additives",{"$f":"SUM(Databáze!BD62,Databáze!BH62)/1000","v":94.369668470000008}]
["MC142",null,"bez přísad/Without additives",75]
["MC150","Mléčné nápoje ostatní celkem/Drinks with a milk base",null,{"$f":"Databáze!BL62/1000","v":8.1373512300000002},{"$f":"Databáze!BM62","v":138.28461999999999},3.7,4.4400000000000004]
["MC160","Ostatní čerstvé výrobky (dezerty, mléčná rýže, mléčná krupice, pudinky, mražené krémy)/Other fresh products",null,{"$f":"Databáze!BN62/1000","v":34.317018179999998},{"$f":"Databáze!BO62","v":1942.46893},51.97,{"$f":"D52-F52","v":-17.652981820000001}]
["MC200","Výrobky z technologicky zpracovaného mléka celkem/Manufactured products",null,null,48431.67,1250.27,-13.57]
["MC210","Zahuštěné mléko celkem/Concentrated milk",null,10.19,733.43,19.62,12.67]
["MC211","v tom","neslazené/Not sweetened","x","x","x","x"]
["MC212",null,"slazené/Sweetened","x","x","x","x"]
["MC220","Výrobky ze sušeného mléka celkem/Powdered dairy products",null,38.630000000000003,3551.89,95.02,239.54]
["MC221","v tom","sušená smetana/Cream milk powder","x","x","x","x"]
["MC222",null,"sušené plnotučné mléko/Whole milk powder",{"$f":"Databáze!BV62/1000","v":12.381682000000001},{"$f":"Databáze!BW62","v":3284.6372900000001},{"$f":"E59*SUM($D$9:$D$14,$D$17,$D$19,$D$21)/SUM($E$9:$E$14,$E$17,$E$19,$E$21)","v":87.247874702315983},{"$f":"D59*8-F59","v":11.805581297684029}]
["MC223",null,"sušené částečně odtučněné a polotučné mléko/Partly-skimmed milk powder","x","x","x","x"]
["MC224",null,"sušené odtučněné mléko/Skimmed-milk powder",{"$f":"Databáze!BZ62/1000","v":25.378992999999998},{"$f":"Databáze!CA62","v":90.425719999999998},2.42,225.99]
["MC225",null,"sušené podmáslí/Buttermilk","x","x","x","x"]
["MC229",null,"ostatní výrobky ze sušeného mléka/Other powder products","x","x","x","x"]
["MC203","Máslo a ostatní výrobky z mléčného tuku vyjádřené v máselném ekvivalentu/Butter and other yellow fat dairy products in butter equivalent",null,26.8,21963.8,587.61,-550.51]
["MC231","v tom","máslo/Butter",21.68,18170.849999999999,486.13,{"$f":"D65-F65","v":-464.45}]
["MC2311",null,"tradiční máslo/Traditional butter*",{"$f":"Databáze!CH62/1000","v":0},{"$f":"Databáze!CI62","v":0},{"$f":"E66*SUM($D$9:$D$14,$D$17,$D$19,$D$21)/SUM($E$9:$E$14,$E$17,$E$19,$E$21)","v":0},{"$f":"D66-F66","v":0}]
["MC2312",null,"rekombinované máslo/Recombined butter*",{"$f":"Databáze!CJ62/1000","v":0},{"$f":"Databáze!CK62","v":0},{"$f":"E67*SUM($D$9:$D$14,$D$17,$D$19,$D$21)/SUM($E$9:$E$14,$E$17,$E$19,$E$21)","v":0},{"$f":"D67-F67","v":0}]
["MC2313",null,"syrovátkové máslo/Whey butter*","x","x","x","x"]
["MC232",null,"přepuštěné máslo a máselný olej/Rendered butter and butter oil",{"$f":"Databáze!CN62/1000","v":0},{"$f":"Databáze!CO62","v":0},{"$f":"E69*SUM($D$9:$D$14,$D$17,$D$19,$D$21)/SUM($E$9:$E$14,$E$17,$E$19,$E$21)","v":0},{"$f":"D69-F69","v":0}]
["MC239","Ostatní výrobky z mléčného tuku/Other yellow fat dairy products",null,{"$f":"SUM(D71:D72)","v":15.4088113},{"$f":"SUM(E71:E72)","v":3792.9532400000003},{"$f":"SUM(F71:F72)","v":101.48},{"$f":"SUM(G71:G72)","v":-86.063667900000013}]
["MC2391","v tom","máslo se sníženým obsahem mléčného tuku/Reduced-fat butter",{"$f":"Databáze!CP62/1000","v":7.4863320999999994},{"$f":"Databáze!CQ62","v":2847.4441700000002},76.180000000000007,{"$f":"D71-F71","v":-68.693667900000008}]
["MC2392",null,"ostatní/Other",{"$f":"Databáze!CR62/1000","v":7.9224791999999997},{"$f":"Databáze!CS62","v":945.50906999999995},25.3,-17.37]
["MC240","Přírodní sýry celkem/Cheese by milk category",null,{"$f":"SUM(D74:D77)","v":116.64},{"$f":"SUM(E74:E77)","v":20271.48},{"$f":"SUM(F74:F77)","v":548},{"$f":"SUM(G74:G77)","v":282.61}]
["MC241","v tom","sýry vyrobené z kravského mléka/Cheese from cow´s milk (pure)",116.64,20271.48,548,282.61]
["MC242",null,"sýry vyrobené z ovčího mléka/Cheese from ewe´s milk (pure)",{"$f":"Databáze!CV62/1000","v":0}]
["MC243",null,"sýry vyrobené z kozího mléka/Cheese from goat´s milk (pure)","x"]
["MC249",null,"ostatní sýry vyrobené ze směsného mléka nebo buvolího mléka/Others (mixed or cheese from buffalo´s milk (pure)",{"$f":"Databáze!CX62/1000","v":0}]
["MC290","Skupiny přírodních sýrů podle tvrdosti/Cheeses subdivision into main hardness categories "]
["MC291","Měkké sýry/Soft cheese",null,{"$f":"Databáze!CY62/1000","v":13.78365093}]
["MC292","Poloměkké sýry/Medium-soft cheese",null,"x"]
["MC293","Polotvrdé sýry/Medium-hard cheese",null,{"$f":"Databáze!DC62/1000","v":40.595834179999997}]
["MC294","Tvrdé sýry/Hard cheese",null,{"$f":"Databáze!DE62/1000","v":8.3732525000000013}]
["MC295","Extra tvrdé sýry/Extra hard cheese",null,"x"]
["MC296","Čerstvé sýry/Fresh cheese",null,44.46]
["MC250","Tavené sýry/Processed cheese",null,{"$f":"Databáze!DK62/1000","v":12.652129949999999}]
["MC260","Kasein a kaseináty/Casein and casienates",null,{"$f":"Databáze!DL62/1000","v":0},{"$f":"Databáze!DM62","v":0},{"$f":"E86*SUM($D$9:$D$14,$D$17,$D$19,$D$21)/SUM($E$9:$E$14,$E$17,$E$19,$E$21)","v":0},{"$f":"D86-F86","v":0}]
["MC270","Syrovátka celkem vyjádřená v ekvivalentu tekuté syrovátky/Whey, total in the liquid equivalent",null,{"$f":"D88+D89*6.9+D90*14.6","v":1364.5748990089999},1910.4]
["MC271","v tom","syrovátka dodaná v tekutém stavu/Whey delivered in the liquid state",{"$f":"Databáze!DN62/1000","v":226.55427232099996}]
["MC272",null,"zahuštěná syrovátka/Whey delivered in the concentrated state",{"$f":"Databáze!DO62/1000","v":94.58067951999999}]
["MC273",null,"sušená syrovátka/Whey in powder or block",{"$f":"Databáze!DP62/1000","v":33.247529999999998}]
["MC274","Laktóza/Lactose",null,{"$f":"Databáze!DQ62/1000","v":0}]
["MC275","Laktalbumin/Lactalbumin",null,{"$f":"Databáze!DR62/1000","v":0}]
["MC280","Ostatní výrobky na bázi mléka celkem/Other manufactured products",null,{"$f":"Databáze!DS62/1000","v":2.1310039999999999},{"$f":"Databáze!DT62","v":0.65866000000000002},{"$f":"E93*SUM($D$9:$D$14,$D$17,$D$19,$D$21)/SUM($E$9:$E$14,$E$17,$E$19,$E$21)","v":1.7495595427350047E-2},{"$f":"D93-F93","v":2.11350840457265}]
["MC320","Odstředěné mléko a podmáslí vrácené zemědělcům/Skimmed milk and buttermilk returned to farms",null,"x","x",null,{"$f":"D94","v":"x"}]
["MC400","Vývoz mléka a smetany do zahraničí/Exports and dispatches of milk and cream in bulk",null,"x","x","x","x"]
["MC410","z toho členské země EU/Of which Member States",null,"x","x","x","x"]
["MC500","Jiné použití (mléko v obalech o objemu nad 2 l pro velkoobchod a gastro)/Other uses",null,{"$f":"Databáze!EE62/1000","v":60.645899742999994},709.56,18.98,41.66]
["MC600","Statistický rozdíl/Differences",null,null,108.32,5.07,0.1]
["MC900","Celkem/Total",null,null,89438.39,2375.2800000000002,17.48]
[]
["*  Sběr a předávání údajů jsou nepovinné."]
["x   Nelze zveřejnit z důvody ochrany důvěrných údajů."]
[]
[]
[null,null,null,null,{"$f":"E98/E99","v":1.2111130354649719E-3},{"$f":"F98/F99","v":2.1344851975346065E-3},{"$f":"G98/G99","v":5.7208237986270021E-3}]

{"sheet":"Tab. H_ČR","index":5,"n_rows":27,"n_cols":4,"rows_kept":27,"cut":false,"hidden":true,"merged":[[4,4,6,4],[6,0,6,3],[13,0,13,3],[0,0,0,3],[1,0,1,3],[3,0,3,3],[2,0,2,4]]}
["TABULKA H"]
["Mléčné bílkoviny z kravského mléka v hlavních mléčných výrobcích."]
["Protein content of cow´s milk in the main products."]
[" "]
["Kód ČS: CZ",null,null,"Rok/Reference year: 2014"]
["Kód výrobku/Product code","Název výrobku/Product","Vyrobené množství/Quantity  (1000 t)","Obsah bílkovin/                             Protein content                       (t) "]
["Výrobky z čerstvého mléka/Fresh products"]
["PLV1100","Konzumní mléko/Drinking milk",{"$f":"'Tab. H_EU'!C12","v":624.0257194620001},{"$f":"'Tab. H_EU'!E12","v":20359.190633922313}]
["PLV1120","Plnotučné mléko/Whole milk",{"$f":"'Tab. H_EU'!C13","v":113.79331098199998},{"$f":"'Tab. H_EU'!E13","v":0}]
["PLV1130","Polotučné mléko/Semi-skimmed milk",{"$f":"'Tab. H_EU'!C14","v":497.79664336000002},{"$f":"'Tab. H_EU'!E14","v":0}]
["PLV1140","Odtučněné mléko/Skimmed milk",{"$f":"'Tab. H_EU'!C15","v":12.435765119999999},{"$f":"'Tab. H_EU'!E15","v":0}]
["PLV1200","Podmáslí/Buttermilk",{"$f":"'Tab. H_EU'!C16","v":8.6247019100000006},{"$f":"'Tab. H_EU'!E16","v":281.38575842327367}]
["PLV1300","Smetana/Cream",{"$f":"'Tab. H_EU'!C17","v":53.93},{"$f":"'Tab. H_EU'!E17","v":1759.4966307382965}]
["Výrobky z technologicky zpracovaného mléka/Manufactured products"]
["PLV2100","Zahuštěné mléko/Concentrated milk",{"$f":"'Tab. H_EU'!C18","v":10.189526000000001},{"$f":"'Tab. H_EU'!E18","v":1053.6218898707345}]
["PLV2210","Sušená smetana/Cream milk powder","x","x"]
["PLV2220","Sušené plnotučné mléko/Whole milk powder",{"$f":"'Tab. H_EU'!C20","v":12.381682000000001},{"$f":"'Tab. H_EU'!E20","v":3231.6748024287799}]
["PLV2230","Sušené částečně odtučněné mléko/Partially-skimmed milk powder","x","x"]
["PLV2240","Sušené odtučněné mléko/Skimmed milk powder",{"$f":"'Tab. H_EU'!C22","v":25.378992999999998},{"$f":"'Tab. H_EU'!E22","v":7452.0354918464163}]
["PLV2250","Sušené podmáslí/Buttermilk powder","x","x"]
["PLV2300","Máslo a ostatní výrobky z mléčného tuku/Butter and other yellow fat dairy products",{"$f":"'Tab. H_EU'!C24","v":37.088811300000003},{"$f":"'Tab. H_EU'!E24","v":1210.2465951536765}]
["PLV2411","Přírodní sýry z kravského mléka/Cheese from cow´s milk",{"$f":"'Tab. H_EU'!C25","v":116.64},{"$f":"'Tab. H_EU'!E25","v":27099.273491169293}]
["PLV2500","Tavené sýry/Processed cheese",{"$f":"'Tab. H_EU'!C26","v":12.652129949999999},{"$f":"'Tab. H_EU'!E26","v":1562.285006226}]
["PLV2600","Kasein a kaseináty/Casein and caseinates",{"$f":"'Tab. H_EU'!C27","v":0},{"$f":"'Tab. H_EU'!E27","v":0}]
["PLV2700","Syrovátka vyjádřená v ekvivalentu tekuté syrovátky/Whey, total in the liquid equivalent",{"$f":"'Tab. H_EU'!C28","v":1364.5748990089999},{"$f":"'Tab. H_EU'!E28","v":9415.5668031620989}]
[]
["x    Nelze zveřejnit z důvodu ochrany důvěrných údajů"]

{"sheet":"Zdroj-grafy ČR","index":6,"n_rows":86,"n_cols":58,"rows_kept":86,"cut":false,"hidden":true,"merged":[[27,0,27,1],[6,0,6,1],[7,0,7,1],[8,0,8,1],[18,0,18,4],[20,0,20,1],[21,0,21,1],[23,0,23,1],[24,0,24,1],[25,0,25,1],[26,0,26,1],[50,0,50,1],[28,0,28,1],[38,0,38,1],[41,0,41,1],[43,0,43,1],[44,0,44,1],[45,0,45,1],[46,0,46,1],[47,0,47,1],[48,0,48,1],[49,0,49,1],[34,0,34,1],[67,0,67,1],[51,0,51,1],[58,0,58,1],[59,0,59,1],[60,0,60,1],[61,0,61,1],[62,0,62,1],[63,0,63,1],[64,0,64,1],[65,0,65,1],[66,0,66,1],[77,0,77,1],[72,0,72,1],[73,0,73,1],[74,0,74,1],[75,0,75,1],[76,0,76,1],[23,56,24,56],[23,57,24,57],[23,41,25,42],[23,53,23,55],[23,50,23,52],[23,44,23,46],[23,47,23,49]]}
[]
[]
["Srovnání  nákupu mléka, smetany a ostatních produktů mlékárnami - časová řada 2010 - 2014"]
[null,null,2010,2011,2012,2013,2014]
[null,null,"(1000 t)","(1000 t)","(1000 t)","(1000 t)","(1000 t)"]
["Kravské mléko nakoupené od zemědělců v ČR",null,2312.2260000000001,2366.1039999999998,2428.7742700000031,2358.4164660000001,2370.2038039471995]
["Nákup plnotučného  mléka, včetně syrového mléka z EU a třetích zemí",null,30.314,13.967000000000001,4.0567000000000002,3.3769200000000001,1.211208882]
["Nákup smetany z EU a třetích zemí",null,2.9620000000000002,0,1.9876799999999999,1.6209300000000002,3.8429160000000002]
["Nákup ostatních produktů (odstředěné mléko, máslo, tvaroh,sýry přírodní, sušené mléko, tekutá syrovátka)  z EU a třetích zemí",null,0,0,2.58,13.31,122.48]
[]
[]
[]
[]
[]
[]
[]
[]
[]
["                                                   "]
[]
[]
[null,null,null,null,null,null,null,null,null,null,null,null,null,null,null,null,null,null,null,null,null,null,null,null,null,2010,2011,2012,2013,2014]
[null,null,null,null,null,null,null,null,null,null,null,null,null,null,null,null,null,null,null,null,null,null,null,null,null,"(1000 t)","(1000 t)","(1000 t)","(1000 t)","(1000 t)"]
[null,null,null,null,null,null,null,null,null,null,null,null,null,null,null,null,null,null,null,null,null,null,null,"Kravské mléko nakoupené od zemědělců v ČR",null,2312.2260000000001,2366.1039999999998,2428.7742700000031,2358.4164660000001,2370.2038039471995,null,null,null,null,null,null,null,null,null,null,null,"Kravské mléko nakoupené od zemědělců v ČR",null,2010,2011,null,null,2012,null,null,2013,null,null,2014,null,null,"bazický index 2014/2010","nárůst/                                          pokles "]
[null,null,null,null,null,null,null,null,null,null,null,null,null,null,null,null,null,null,null,null,null,null,null,"Nákup plnotučného  mléka, včetně syrového mléka z EU a třetích zemí",null,30.314,13.967000000000001,4.0567000000000002,3.3769200000000001,1.211208882,null,null,null,null,null,null,null,null,null,null,null,null,null,"(1000 t)","(1000 t)","meziroční index","nárůst/                                              pokles ","(1000 t)","meziroční index","nárůst                 /pokles ","(1000 t)","meziroční index","nárůst                           /pokles ","(1000 t)","meziroční index","nárůst/                                    pokles"]
[null,null,null,null,null,null,null,null,null,null,null,null,null,null,null,null,null,null,null,null,null,null,null,"Nákup smetany z EU a třetích zemí",null,2.9620000000000002,0,1.9876799999999999,1.6209300000000002,3.8429160000000002,null,null,null,null,null,null,null,null,null,null,null,null,null,2312.2260000000001,2366.1039999999998,{"$f":"AS26/AR26","v":1.023301355490337},{"$f":"AT26-1","v":2.3301355490336961E-2},2428.7742700000031,{"$f":"AV26/AS26","v":1.0264866928926215},{"$f":"AW26-1","v":2.6486692892621511E-2},2358.4164660000001,{"$f":"AY26/AV26","v":0.97103155905879934},{"$f":"AZ26-1","v":-2.8968440941200657E-2},2370.2038039471995,{"$f":"BB26/AY26","v":1.0049979883184887},{"$f":"BC26-1","v":4.9979883184887441E-3},{"$f":"BB26/AR26","v":1.0250744537719061},{"$f":"BE26-1","v":2.5074453771906091E-2}]
[null,null,null,null,null,null,null,null,null,null,null,null,null,null,null,null,null,null,null,null,null,null,null,"Nákup ostatních produktů (odstředěné mléko, máslo, tvaroh, sýry přírodní, sušené mléko, tekutá syrovátka)  z EU a třetích zemí",null,0,0,2.58,13.31,122.48,null,null,null,null,null,null,null,null,null,null,null,"báze= srovnávací rok 2010"]
[]
[null,null,null,null,null,null,null,null,null,null,null,null,null,null,null,null,null,null,null,null,null,null,null,null,null,{"$f":"SUM(Z24:Z28)","v":2345.502},{"$f":"SUM(AA24:AA28)","v":2380.0709999999999},{"$f":"SUM(AB24:AB28)","v":2437.3986500000033},{"$f":"SUM(AC24:AC28)","v":2376.7243160000003},{"$f":"SUM(AD24:AD28)","v":2497.7379288291995}]
[null,null,null,null,null,null,null,null,null,null,null,null,null,null,null,null,null,null,null,null,null,null,null,"Procentické vyjádření : % z objemu nakoupené mléčné suroviny celkem",null,2010,2011,2012,2013,2014]
[null,null,null,null,null,null,null,null,null,null,null,null,null,null,null,null,null,null,null,null,null,null,null,null,null,"%","%","%","%","%"]
[null,null,null,null,null,null,null,null,null,null,null,null,null,null,null,null,null,null,null,null,null,null,null,"Kravské mléko nakoupené od zemědělců v ČR",null,0.98581284518196965,0.99413168766814097,0.99646125731701918,0.99229499090267836,0.94894014964100704]
[null,null,null,null,null,null,null,null,null,null,null,null,null,null,null,null,null,null,null,null,null,null,null,"Nákup plnotučného  mléka, včetně syrového mléka z EU a třetích zemí",null,1.2924312151513835E-2,5.8683123318590078E-3,1.6643557338730977E-3,1.4208265796084687E-3,4.8492232432397234E-4]
[null,null,null,null,null,null,null,null,null,null,null,null,null,null,null,null,null,null,null,null,null,null,null,"Nákup smetany z EU a třetích zemí",null,1.2628426665165923E-3,0,8.1549205144695891E-4,6.8200029248094581E-4,6.9983322902870161E-3]
[null,null,null,null,null,null,null,null,null,null,null,null,null,null,null,null,null,null,null,null,null,null,null,"Nákup ostatních produktů (odstředěné mléko, máslo, tvaroh,sýry přírodní, sušené mléko tekutá syrovátka)  z EU a třetích zemí",null,0,0,1.1000000000000001E-3,5.5999999999999999E-3,4.9000000000000002E-2]
[]
[]
[]
[]
[]
[]
[]
[]
[]
[]
[]
[]
[]
[]
[]
[]
[]
[]
[]
[]
[]
["Srovnání objemu výroby  mlékárenských výrobků v tis. tun -  časová řada 2010 - 2014, meziroční index 2014/2013, bazický index 2014/2010 "]
["Druh výrobku",null,"2010                       množství (1000 t)","2011                       množství (1000 t)","2012                       množství (1000 t)","2013                       množství (1000 t)","2014                       množství (1000 t)","Meziroční index 2014/2013 (2013=100)","nárůst                                       /pokles výroby v %","Bazický index 2014/2010 (2010=100)","nárůst                                       /pokles výroby v %"]
["Konzumní mléko",null,627.17999999999995,648.01,609.23014000000001,619.49621999999999,{"$f":"'Tab. B_ČR'!$D$30","v":624.02995434200011},{"$f":"G59/F59","v":1.0073184213165984},{"$f":"H59-1","v":7.3184213165984335E-3},{"$f":"G59/C59","v":0.9949774456168885},{"$f":"J59-1","v":-5.0225543831114994E-3}]
["Plnotučné mléko celkem",null,84.22,83.17,92.580470000000005,99.29,{"$f":"'Tab. B_ČR'!$D$32","v":113.79331098199998},{"$f":"G60/F60","v":1.146070208298922},{"$f":"H60-1","v":0.14607020829892203},{"$f":"G60/C60","v":1.3511435642602705},{"$f":"J60-1","v":0.35114356426027049}]
["Polotučné mléko celkem",null,511.65,537.54999999999995,498.71553000000006,504.06621999999999,{"$f":"'Tab. B_ČR'!$D$36","v":497.79664336000002},0.98756199802478339,-1.2438001975216606E-2,0.97292415393335296,-2.7075846066647036E-2]
["Odtučněné mléko celkem",null,31.31,27.29,17.934139999999999,16.14,{"$f":"'Tab. B_ČR'!$D$40","v":12.44},0.77075588599752165,-0.22924411400247835,0.3973171510699457,-0.6026828489300543]
["Podmáslí neochucené, bez přísad",null,9.59,8.7899999999999991,8.4700000000000006,9.5986000000000011,{"$f":"'Tab. B_ČR'!$D$44","v":8.6247019100000006},0.89853748567499425,-0.10146251432500575,0.89934326485922844,-0.10065673514077156]
["Smetana celkem",null,46.62,46.62,47.348340000000007,46.496808000000001,{"$f":"'Tab. B_ČR'!$D$45","v":53.930000000000007},1.159864565326721,0.159864565326721,1.156799656799657,0.15679965679965702]
["Kysané výrobky celkem",null,171.22,163.41,167.50877000000003,147.409987,{"$f":"'Tab. B_ČR'!$D$48","v":169.36966847000002},1.1489701065505149,0.1489701065505149,0.98919325119729018,-1.080674880270982E-2]
["Mléčné nápoje ostatní celkem",null,20.13,18.87,4.7037599999999999,4.3877100000000002,{"$f":"'Tab. B_ČR'!$D$51","v":8.1373512300000002},1.8545781808733941,0.8545781808733941,0.40424000149031297,-0.59575999850968708]
["Ostatní čerstvé výrobky (dezerty, mléčná rýže, mléčná krupice, pudinky, mražené krémy)",null,36.24,35.54,33.23536,28.817880000000002,{"$f":"'Tab. B_ČR'!$D$52","v":34.317018179999998},1.1908238281233732,0.19082382812337317,0.94693758774834424,-5.3062412251655755E-2]
["Zahuštěné mléko celkem",null,15.3,13.31,15.214099999999998,11.26,{"$f":"'Tab. B_ČR'!$D$54","v":10.19},0.9049733570159858,-9.5026642984014198E-2,0.6660130718954248,-0.3339869281045752]
["Sušená smetana, sušené plnotučné mléko, sušené částečně odtučněné mléko",null,10.16,13.29,11.801160000000001,{"$f":"SUM('[1]Tab. B_ČR'!D58:D60)","v":12.180324999999998},12.54,1.0295291792296184,2.9529179229618396E-2,1.2342519685039368,0.23425196850393681]
["Sušené odtučněné mléko",null,14.83,14.54,17.622730000000001,{"$f":"'[1]Tab. B_ČR'!D61","v":17.46949},"x","x","x","x","x"]
["Máslo a ostatní výrobky z mléčného tuku vyjádřené v máselném ekvivalentu",null,28.58,26.86,27.3043686,29.49,{"$f":"'Tab. B_ČR'!$D$64","v":26.8},0.90878263818243477,-9.1217361817565235E-2,0.93771868439468165,-6.2281315605318355E-2]
["Máslo",null,23.38,21.89,23.02,23.982899999999997,{"$f":"'Tab. B_ČR'!$D$65","v":21.68},0.9039774172431192,-9.6022582756880803E-2,0.92728828058169377,-7.2711719418306231E-2]
["Přírodní sýry celkem",null,115.16,113.12,111.54692999999999,117.79,{"$f":"'Tab. B_ČR'!$D$73","v":116.64},0.99023686221241192,-9.7631377875880831E-3,1.0128516846127127,1.2851684612712688E-2]
["Měkké sýry",null,14.33,12.61,12.98875,12.19744,{"$f":"'Tab. B_ČR'!$D$79","v":13.78365093},1.1300445773867303,0.13004457738673025,0.96187375645498951,-3.8126243545010485E-2]
["Polotvrdé sýry",null,47.97,43.36,48.011169999999993,43.858880000000006,{"$f":"'Tab. B_ČR'!$D$81","v":40.595834179999997},0.92560125064753118,-7.4398749352468818E-2,0.84627546758390659,-0.15372453241609341]
["Čerstvé sýry",null,39.700000000000003,42.51,39.071100000000001,42.885289999999976,{"$f":"'Tab. B_ČR'!$D$84","v":44.46},1.0367191174409693,3.671911744096934E-2,1.1198992443324935,0.11989924433249355]
["Tavené sýry",null,13.95,13.62,14.566579999999998,23.79,{"$f":"'Tab. B_ČR'!$D$85","v":12.652129949999999},0.53182555485498106,-0.46817444514501894,0.90696272043010751,-9.3037279569892495E-2]
["Vývoz mléka a smetany do zahraničí",null,131.59,209.08,287.85723999999993,191.98,"x","x","x","x","x"]
["Zdroj: Roční statistické zjišťování Mlék (MZE) 6 - 01"]
[]
[]
[]
[]
[]
[null,null,null,null,null,191.98249000000001]
[null,null,null,null,null,26.610889999999998]

{"sheet":"Nákup_Grafy č.1,2","index":7,"n_rows":84,"n_cols":17,"rows_kept":84,"cut":false,"hidden":false,"merged":[[55,0,55,1],[40,0,40,1],[41,0,41,1],[42,0,42,1],[52,0,52,4],[54,0,54,1],[4,3,4,5],[4,6,4,8],[4,9,4,11],[4,12,4,14],[34,0,34,16],[4,15,5,15],[4,16,5,16],[58,0,58,1],[59,0,59,1],[60,0,60,1],[62,0,62,1],[57,0,57,1],[76,0,76,1],[78,0,78,1],[79,0,79,1],[1,0,1,16],[14,0,14,1],[19,0,19,1],[5,0,6,0],[10,0,10,1],[11,0,11,1],[12,0,12,1],[13,0,13,1],[20,0,20,1],[21,0,21,1],[22,0,22,1],[23,0,23,1],[24,0,24,1],[86,0,86,1],[80,0,80,1],[81,0,81,1],[82,0,82,1],[85,0,85,1]]}
[]
["Graf č. 1 "]
["Nákup mléka, meziroční srovnání, bazický index - časová řada 2010 - 2014."]
[]
[null,null,2010,2011,null,null,2012,null,null,2013,null,null,2014,null,null,"bazický index 2014/2010","nárůst/                                          pokles "]
["Kravské mléko nakoupené od zemědělců v ČR",null,"(1000 t)","(1000 t)","meziroční index","nárůst/                                              pokles ","(1000 t)","meziroční index","nárůst                 /pokles ","(1000 t)","meziroční index","nárůst                           /pokles ","(1000 t)","meziroční index","nárůst/                                    pokles"]
[null,null,2312.2260000000001,2366.1039999999998,{"$f":"D7/C7","v":1.023301355490337},{"$f":"E7-1","v":2.3301355490336961E-2},2428.7742700000031,{"$f":"G7/D7","v":1.0264866928926215},{"$f":"H7-1","v":2.6486692892621511E-2},2358.4164660000001,{"$f":"J7/G7","v":0.97103155905879934},{"$f":"K7-1","v":-2.8968440941200657E-2},2370.2038039471995,{"$f":"M7/J7","v":1.0049979883184887},{"$f":"N7-1","v":4.9979883184887441E-3},{"$f":"M7/C7","v":1.0250744537719061},{"$f":"P7-1","v":2.5074453771906091E-2}]
["báze= srovnávací rok 2010"]
["Zdroj: Roční statistické zjišťování Mlék (MZE) 6 - 01"]
[]
[]
[]
[]
[]
[]
[]
[]
[]
[]
[]
[]
[]
[]
[]
[]
[]
[]
[]
[]
[]
[]
[]
[]
[]
["Graf č. 2"]
["Srovnání  nákupu mléka, smetany a ostatních produktů mlékárnami - časová řada 2010 - 2014."]
[]
[null,null,2010,2011,2012,2013,2014]
[null,null,"(1000 t)","(1000 t)","(1000 t)","(1000 t)","(1000 t)"]
["Kravské mléko nakoupené od zemědělců v ČR",null,2312.2260000000001,2366.1039999999998,2428.7742700000031,2358.4164660000001,2370.2038039471995]
["Nákup plnotučného  mléka, včetně syrového mléka z EU a třetích zemí",null,30.314,13.967000000000001,4.0567000000000002,3.3769200000000001,1.211208882]
["Nákup smetany z EU a třetích zemí",null,2.9620000000000002,0,1.9876799999999999,1.6209300000000002,3.8429160000000002]
["Nákup ostatních produktů z EU a třetích zemí (odstředěné mléko, máslo, tvaroh,sýry přírodní, sušené mléko, tekutá syrovátka)  ",null,0,0,2.58,13.31,122.48]
["Zdroj: Roční statistické zjišťování Mlék (MZE) 6 - 01"]
[]
["2a"]
[]
[]
[]
[]
[]
[]
["                                                   "]
[]
[]
[]
[]
[]
[]
[]
[]
["* skupinová agregace z důvodu ochrany důvěrných údajů"]
[]
["2b"]
[]
[]
[]
[]
[]
[]
[]
[]
[]
[]
[]
[]
[]
[]
[]
[]
[]
[]
[]
["* skupinová agregace z důvodu ochrany důvěrných údajů"]

{"sheet":"Výroba_Grafy č.3,4","index":8,"n_rows":69,"n_cols":10,"rows_kept":69,"cut":false,"hidden":false,"merged":[]}
[]
["Graf č. 3, graf č. 4"]
["Srovnání objemu výroby  mlékárenských výrobků v tis. tun -  časová řada 2010 - 2014, meziroční index 2014/2013, bazický index 2014/2010 "]
["Druh výrobku","2010                       množství (1000 t)","2011                       množství (1000 t)","2012                       množství (1000 t)","2013                       množství (1000 t)","2014                       množství (1000 t)","Meziroční index 2014/2013 (2013=100)","nárůst                                       /pokles výroby v %","Bazický index 2014/2010 (2010=100)","nárůst                                       /pokles výroby v %"]
["Konzumní mléko",627.17999999999995,648.01,609.23014000000001,619.49621999999999,{"$f":"'Tab. B_ČR'!$D$30","v":624.02995434200011},{"$f":"F5/E5","v":1.0073184213165984},{"$f":"G5-1","v":7.3184213165984335E-3},{"$f":"F5/B5","v":0.9949774456168885},{"$f":"I5-1","v":-5.0225543831114994E-3}]
["Plnotučné mléko celkem",84.22,83.17,92.580470000000005,99.29,{"$f":"'Tab. B_ČR'!$D$32","v":113.79331098199998},{"$f":"F6/E6","v":1.146070208298922},{"$f":"G6-1","v":0.14607020829892203},{"$f":"F6/B6","v":1.3511435642602705},{"$f":"I6-1","v":0.35114356426027049}]
["Polotučné mléko celkem",511.65,537.54999999999995,498.71553000000006,504.06621999999999,{"$f":"'Tab. B_ČR'!$D$36","v":497.79664336000002},0.98756199802478339,-1.2438001975216606E-2,0.97292415393335296,-2.7075846066647036E-2]
["Odtučněné mléko celkem",31.31,27.29,17.934139999999999,16.14,{"$f":"'Tab. B_ČR'!$D$40","v":12.44},0.77075588599752165,-0.22924411400247835,0.3973171510699457,-0.6026828489300543]
["Podmáslí neochucené, bez přísad",9.59,8.7899999999999991,8.4700000000000006,9.5986000000000011,{"$f":"'Tab. B_ČR'!$D$44","v":8.6247019100000006},0.89853748567499425,-0.10146251432500575,0.89934326485922844,-0.10065673514077156]
["Smetana celkem",46.62,46.62,47.348340000000007,46.496808000000001,{"$f":"'Tab. B_ČR'!$D$45","v":53.930000000000007},1.159864565326721,0.159864565326721,1.156799656799657,0.15679965679965702]
["Kysané výrobky celkem",171.22,163.41,167.50877000000003,147.409987,{"$f":"'Tab. B_ČR'!$D$48","v":169.36966847000002},1.1489701065505149,0.1489701065505149,0.98919325119729018,-1.080674880270982E-2]
["Mléčné nápoje ostatní celkem",20.13,18.87,4.7037599999999999,4.3877100000000002,{"$f":"'Tab. B_ČR'!$D$51","v":8.1373512300000002},1.8545781808733941,0.8545781808733941,0.40424000149031297,-0.59575999850968708]
["Ostatní čerstvé výrobky (dezerty, mléčná rýže, mléčná krupice, pudinky, mražené krémy)",36.24,35.54,33.23536,28.817880000000002,{"$f":"'Tab. B_ČR'!$D$52","v":34.317018179999998},1.1908238281233732,0.19082382812337317,0.94693758774834424,-5.3062412251655755E-2]
["Zahuštěné mléko celkem",15.3,13.31,15.214099999999998,11.26,{"$f":"'Tab. B_ČR'!$D$54","v":10.19},0.9049733570159858,-9.5026642984014198E-2,0.6660130718954248,-0.3339869281045752]
["Sušená smetana, sušené plnotučné mléko, sušené částečně odtučněné mléko",10.16,13.29,11.801160000000001,{"$f":"SUM('[1]Tab. B_ČR'!D58:D60)","v":12.180324999999998},12.54,1.0295291792296184,2.9529179229618396E-2,1.2342519685039368,0.23425196850393681]
["Sušené odtučněné mléko",14.83,14.54,17.622730000000001,{"$f":"'[1]Tab. B_ČR'!D61","v":17.46949},"x","x","x","x","x"]
["Máslo a ostatní výrobky z mléčného tuku vyjádřené v máselném ekvivalentu",28.58,26.86,27.3043686,29.49,{"$f":"'Tab. B_ČR'!$D$64","v":26.8},0.90878263818243477,-9.1217361817565235E-2,0.93771868439468165,-6.2281315605318355E-2]
["Máslo",23.38,21.89,23.02,23.982899999999997,{"$f":"'Tab. B_ČR'!$D$65","v":21.68},0.9039774172431192,-9.6022582756880803E-2,0.92728828058169377,-7.2711719418306231E-2]
["Přírodní sýry celkem",115.16,113.12,111.54692999999999,117.79,{"$f":"'Tab. B_ČR'!$D$73","v":116.64},0.99023686221241192,-9.7631377875880831E-3,1.0128516846127127,1.2851684612712688E-2]
["Měkké sýry",14.33,12.61,12.98875,12.19744,{"$f":"'Tab. B_ČR'!$D$79","v":13.78365093},1.1300445773867303,0.13004457738673025,0.96187375645498951,-3.8126243545010485E-2]
["Polotvrdé sýry",47.97,43.36,48.011169999999993,43.858880000000006,{"$f":"'Tab. B_ČR'!$D$81","v":40.595834179999997},0.92560125064753118,-7.4398749352468818E-2,0.84627546758390659,-0.15372453241609341]
["Čerstvé sýry",39.700000000000003,42.51,39.071100000000001,42.885289999999976,{"$f":"'Tab. B_ČR'!$D$84","v":44.46},1.0367191174409693,3.671911744096934E-2,1.1198992443324935,0.11989924433249355]
["Tavené sýry",13.95,13.62,14.566579999999998,23.79,{"$f":"'Tab. B_ČR'!$D$85","v":12.652129949999999},0.53182555485498106,-0.46817444514501894,0.90696272043010751,-9.3037279569892495E-2]
["Vývoz mléka a smetany do zahraničí",131.59,209.08,287.85723999999993,191.98,"x","x","x","x","x"]
["Zdroj: Roční statistické zjišťování Mlék (MZE) 6 - 01"]
["báze =srovnávací rok 2010"]
[]
[]
[3]
[]
[null,null,null,null,191.98249000000001]
[null,null,null,null,26.610889999999998]
[]
[]
[]
[]
[]
[]
[]
[]
[]
[]
[]
[]
[]
[]
[]
[]
[]
[]
[]
[]
[]
[]
[]
[]
[]
[]
[]
[]
[]
[]
[]
[]
[]
[]
[]
[]
[4]

{"sheet":"Bilance_zahr.obchod_Graf č.5","index":9,"n_rows":45,"n_cols":7,"rows_kept":45,"cut":false,"hidden":false,"merged":[[1,0,1,6],[7,7,9,7],[7,2,7,6],[7,0,9,1],[39,0,44,0],[38,0,38,1],[26,0,31,0],[32,0,32,1],[33,0,37,0],[10,0,10,1],[11,0,17,0],[19,0,24,0],[18,0,18,1],[25,0,25,1]]}
[]
["Graf č. 5"]
["Obchodní bilance  vybraných druhů mlékárenských výrobků, časová řada 2010 - 2014.  "]
["Období :  ","1.1.2010  –  31.12.2014"]
["Nomenklatura zboží :  ","Harmonizovaný systém HS(6)"]
["Data:  ","bez dopočtů"]
["Zdroj: Databáze zahraničního obchodu, Český statistický úřad"]
["Druh výrobku",null,"Saldo obchodní bilance "]
[null,null,2010,2011,2012,2013,2014]
[null,null,"tis. Kč","tis. Kč","tis. Kč","tis. Kč","tis. Kč"]
["Mléko nezahuštěné,neslazené, tuk 1-6%, celkem",null,4027008,4954181,5327149,6032722,7103821]
["z toho","Belgie",-1304,-1300,-15429,-4312,-11150]
[null,"Německo",3057635,3432653,3472203,3643165,4936092]
[null,"Chorvatsko",38102,95940,109290,170932,31714]
[null,"Maďarsko",288595,501265,388719,309293,247455]
[null,"Itálie",303823,329936,485780,660815,584172]
[null,"Polsko",123657,139715,136818,205562,213175]
[null,"Slovensko",225190,455464,451038,906258,879113]
["Máslo celkem",null,-1185500,-1129597,-1180083,-1372808,-1355914]
["z toho","Belgie",-343415,-286265,-194390,-217385,-184323]
[null,"Německo",-787913,-665972,-748742,-783841,-781120]
[null,"Maďarsko",65096,46982,14565,13578,15488]
[null,"Itálie",40145,129848,70484,107557,100955]
[null,"Polsko",-297629,-403631,-314690,-368429,-503871]
[null,"Slovensko",105408,1234,13058,-80908,105171]
["Sýry čerstvé a tvarohy celkem",null,-981802,-709490,-540975,-660872,-612607]
["z toho","Belgie",-3138,-10201,-7040,35,-295]
[null,"Německo",-598930,-452740,-655693,-797603,-713622]
[null,"Maďarsko",105,317,697,-161,1926]
[null,"Itálie",-47119,-40737,-80022,-83799,-118178]
[null,"Polsko",-321534,-188263,-63061,-120915,-12854]
[null,"Slovensko",39731,11487,199586,225010,251447]
["Sýry tavené celkem",null,-510693,-588160,-553195,-423011,-461281]
["z toho","Německo",-153233,-155079,-133095,-159891,-156138]
[null,"Maďarsko",2312,-7948,-2058,5275,11612]
[null,"Itálie",-4339,-3565,-3252,-966,-180]
[null,"Polsko",-269285,-328056,-383585,-452993,-426703]
[null,"Slovensko",-76762,-109968,-82136,156539,129277]
["Sýry ostatní celkem",null,-1689662,-1726862,-1711155,-1804735,-2060157]
["z toho","Belgie",3035,-1514,-650,-1399,8671]
[null,"Německo",-1384596,-1614284,-1677316,-1984013,-2339229]
[null,"Maďarsko",25388,23818,9639,7592,44769]
[null,"Itálie",647439,1141713,1118016,1152779,1142740]
[null,"Polsko",-1381509,-1490830,-1441965,-1401908,-1384753]
[null,"Slovensko",189584,54889,109819,149196,265206]

{"sheet":"List5","index":10,"n_rows":0,"n_cols":0,"rows_kept":0,"cut":false,"hidden":false,"merged":[]}